BEGIN:VCALENDAR
VERSION:2.0
PRODID:-//Literatur- und Kunstkreis Uslar e. V.//NONSGML kigkonsult.se iCalcreator 2.41.92//
CALSCALE:GREGORIAN
METHOD:PUBLISH
UID:62633666-6265-4339-b464-373662346230
X-WR-CALNAME:iCagenda
X-WR-CALDESC:Event Management Extension for Joomla!
X-WR-RELCALID:3E26604A-50F4-4449-8B3E-E4F4932D05B5
X-WR-TIMEZONE:Europe/Berlin
BEGIN:VTIMEZONE
TZID:Europe/Berlin
TZUNTIL:20261025T010000Z
BEGIN:STANDARD
TZNAME:CET
DTSTART:20241027T030000
TZOFFSETFROM:+0200
TZOFFSETTO:+0100
RDATE:20251026T030000
END:STANDARD
BEGIN:DAYLIGHT
TZNAME:CEST
DTSTART:20240331T020000
TZOFFSETFROM:+0100
TZOFFSETTO:+0200
RDATE:20250330T020000
RDATE:20260329T020000
END:DAYLIGHT
END:VTIMEZONE
BEGIN:VEVENT
UID:33323039-3835-4264-a561-616133633735
DTSTAMP:20260422T103800Z
CATEGORIES:2024
CLASS:PUBLIC
DESCRIPTION;ALTREP="CID:<FFFF__=0ABBE548DFE235B58f9e8a93d@coffeebean.com>":
 'Liebes Klima\, gute Besserung!' Alle reden vom Klima. Aber nur einer kenn
 t sich aus ...: HolgerPaetz! Wir wissen doch: Das CO2 muss schrumpfen! Und
  zwar das im Hirn. Es verqualmt uns sonstdie gute Laune. Bloß keine Panik.
  Früher waren die Temperaturen viel höher. Sonst hätte es nie Dinosaurier 
 gegeben. Außerdem – wir haben klimatisch doch schon viel geleistet: Wir sc
 hufen ein deutsches Klima-Gesetz. Und Markus Söder kümmert sich eh...
DTSTART:20241107T183000Z
DTEND:20241107T183000Z
GEO:+51.659328;+9.631804
LOCATION:Ev. Gemeindehaus Uslar
ORGANIZER:
SEQUENCE:1
SUMMARY:Kabarett: Holger Paetz
TRANSP:OPAQUE
URL:http://literatur-kunstkreis-uslar.de/index.php/193-kabarett-holger-paet
 z
END:VEVENT
END:VCALENDAR
