BEGIN:VCALENDAR
VERSION:2.0
PRODID:-//Literatur- und Kunstkreis Uslar e. V.//NONSGML kigkonsult.se iCalcreator 2.41.92//
CALSCALE:GREGORIAN
METHOD:PUBLISH
UID:38656239-6363-4338-b061-636462636337
X-WR-CALNAME:iCagenda
X-WR-CALDESC:Event Management Extension for Joomla!
X-WR-RELCALID:3E26604A-50F4-4449-8B3E-E4F4932D05B5
X-WR-TIMEZONE:Europe/Berlin
BEGIN:VTIMEZONE
TZID:Europe/Berlin
TZUNTIL:20280326T010000Z
BEGIN:STANDARD
TZNAME:CET
DTSTART:20251026T030000
TZOFFSETFROM:+0200
TZOFFSETTO:+0100
RDATE:20261025T030000
RDATE:20271031T030000
END:STANDARD
BEGIN:DAYLIGHT
TZNAME:CEST
DTSTART:20260329T020000
TZOFFSETFROM:+0100
TZOFFSETTO:+0200
RDATE:20270328T020000
END:DAYLIGHT
END:VTIMEZONE
BEGIN:VEVENT
UID:66343863-3664-4837-b735-353036323933
DTSTAMP:20260423T142030Z
CATEGORIES:2026
CLASS:PUBLIC
DESCRIPTION;ALTREP="CID:<FFFF__=0ABBE548DFE235B58f9e8a93d@coffeebean.com>":
 Mackefisch schaffen es\, mit vier Armen und Beinen gefühlte 20 Instrumente
  gleichzeitig zu spie- len\, mit ihrem zweistimmigen Ge- sang souverän zwi
 schen hinrei- ßend schön und atemberaubend rasant zu wechseln und dabei un
 - vergleichbar lustige\, poetische und gnadenlose Texte zu transportieren.
 ..
DTSTART:20260508T173000Z
DTEND:20260508T193000Z
GEO:+51.659355;+9.631767
LOCATION:Ev. Gemeindehaus Uslar
ORGANIZER:
SEQUENCE:1
SUMMARY:Mackefisch
TRANSP:OPAQUE
URL:https://literatur-kunstkreis-uslar.de/index.php/212-mackefisch
END:VEVENT
END:VCALENDAR
