BEGIN:VCALENDAR
VERSION:2.0
PRODID:-//Literatur- und Kunstkreis Uslar e. V.//NONSGML kigkonsult.se iCalcreator 2.41.92//
CALSCALE:GREGORIAN
METHOD:PUBLISH
UID:38653933-3432-4364-a134-663037306333
X-WR-CALNAME:iCagenda
X-WR-CALDESC:Event Management Extension for Joomla!
X-WR-RELCALID:3E26604A-50F4-4449-8B3E-E4F4932D05B5
X-WR-TIMEZONE:Europe/Berlin
BEGIN:VTIMEZONE
TZID:Europe/Berlin
TZUNTIL:20280326T010000Z
BEGIN:STANDARD
TZNAME:CET
DTSTART:20251026T030000
TZOFFSETFROM:+0200
TZOFFSETTO:+0100
RDATE:20261025T030000
RDATE:20271031T030000
END:STANDARD
BEGIN:DAYLIGHT
TZNAME:CEST
DTSTART:20260329T020000
TZOFFSETFROM:+0100
TZOFFSETTO:+0200
RDATE:20270328T020000
END:DAYLIGHT
END:VTIMEZONE
BEGIN:VEVENT
UID:64663032-3035-4035-a433-303665633533
DTSTAMP:20260423T141835Z
CATEGORIES:2026
CLASS:PUBLIC
DESCRIPTION;ALTREP="CID:<FFFF__=0ABBE548DFE235B58f9e8a93d@coffeebean.com>":
 Die multinationale\, mit zwei Irish Music Awards ausgezeichnete Celtic Fol
 k-Band kehrt zurück nach Uslar. Im Gepäck wieder wunderschöne Songs\, höch
 ster musikalischer Genuss und beste Unterhaltung.
DTSTART:20260619T173000Z
DTEND:20260619T193000Z
GEO:+51.658268;+9.633439
LOCATION:St. Johanniskirche Uslar
ORGANIZER:
SEQUENCE:1
SUMMARY:Folk: CARA
TRANSP:OPAQUE
URL:https://literatur-kunstkreis-uslar.de/index.php/216-folk-cara-open-air
END:VEVENT
END:VCALENDAR
