BEGIN:VCALENDAR
VERSION:2.0
PRODID:-//Literatur- und Kunstkreis Uslar e. V.//NONSGML kigkonsult.se iCalcreator 2.41.92//
CALSCALE:GREGORIAN
METHOD:PUBLISH
UID:33626465-3562-4234-b435-613035376137
X-WR-CALNAME:iCagenda
X-WR-CALDESC:Event Management Extension for Joomla!
X-WR-RELCALID:3E26604A-50F4-4449-8B3E-E4F4932D05B5
X-WR-TIMEZONE:Europe/Berlin
BEGIN:VTIMEZONE
TZID:Europe/Berlin
TZUNTIL:20280326T010000Z
BEGIN:STANDARD
TZNAME:CET
DTSTART:20251026T030000
TZOFFSETFROM:+0200
TZOFFSETTO:+0100
RDATE:20261025T030000
RDATE:20271031T030000
END:STANDARD
BEGIN:DAYLIGHT
TZNAME:CEST
DTSTART:20260329T020000
TZOFFSETFROM:+0100
TZOFFSETTO:+0200
RDATE:20270328T020000
END:DAYLIGHT
END:VTIMEZONE
BEGIN:VEVENT
UID:63626562-3464-4565-b539-333262613337
DTSTAMP:20260423T144334Z
CATEGORIES:2026
CLASS:PUBLIC
DESCRIPTION;ALTREP="CID:<FFFF__=0ABBE548DFE235B58f9e8a93d@coffeebean.com>":
 Wenn Sie das gesehen haben\, glauben Sie nichts mehr! Egal ob Geschichten 
 für Kinder um ein äußerst komisches Huhn\, das auf wundersame Weise Eier l
 egt oder blitzartige Blöffs und Blödeleien für Erwachsene – Friedrich der 
 Zau- berer sorgt für Lacher und die nötige Spannung\, während er gekonnt m
 it klassischen Zauberutensilien oder aber auch alltäglichen Dingen wie ein
 en Radiergummi\, einer Zeitung oder einem Trauring hantiert und die Faszin
 ation des Be- greifenwollens\, des Nichtsehens- und Nichtverstehen- können
 s fördert.
DTSTART:20260808T150000Z
DTEND:20260808T170000Z
GEO:+51.658123;+9.633728
LOCATION:Lavespark Uslar
ORGANIZER:
SEQUENCE:1
SUMMARY:Friedrich der Zauberer für Kinder
TRANSP:OPAQUE
URL:https://literatur-kunstkreis-uslar.de/index.php/217-friedrich-der-zaube
 rer-fuer-kinder
END:VEVENT
END:VCALENDAR
