BEGIN:VCALENDAR
VERSION:2.0
PRODID:-//Literatur- und Kunstkreis Uslar e. V.//NONSGML kigkonsult.se iCalcreator 2.41.92//
CALSCALE:GREGORIAN
METHOD:PUBLISH
UID:34613563-3130-4438-a264-613766623834
X-WR-CALNAME:iCagenda
X-WR-CALDESC:Event Management Extension for Joomla!
X-WR-RELCALID:3E26604A-50F4-4449-8B3E-E4F4932D05B5
X-WR-TIMEZONE:Europe/Berlin
BEGIN:VTIMEZONE
TZID:Europe/Berlin
TZUNTIL:20111030T010000Z
BEGIN:STANDARD
TZNAME:CET
DTSTART:20091025T030000
TZOFFSETFROM:+0200
TZOFFSETTO:+0100
RDATE:20101031T030000
END:STANDARD
BEGIN:DAYLIGHT
TZNAME:CEST
DTSTART:20090329T020000
TZOFFSETFROM:+0100
TZOFFSETTO:+0200
RDATE:20100328T020000
RDATE:20110327T020000
END:DAYLIGHT
END:VTIMEZONE
BEGIN:VEVENT
UID:39626239-3662-4361-a565-353632303234
DTSTAMP:20260422T150536Z
CATEGORIES:2009
CLASS:PUBLIC
DESCRIPTION:
DTSTART:20091125T190000Z
DTEND:20091125T190000Z
GEO:+51.658913;+9.635064
LOCATION:Hotel Menzhausen
ORGANIZER:
SEQUENCE:1
SUMMARY:'Neues aus der Bücherwelt'
TRANSP:OPAQUE
URL:https://literatur-kunstkreis-uslar.de/index.php/programm/archiv/10-neue
 s-aus-der-buecherwelt
END:VEVENT
END:VCALENDAR
