BEGIN:VCALENDAR
VERSION:2.0
PRODID:-//Literatur- und Kunstkreis Uslar e. V.//NONSGML kigkonsult.se iCalcreator 2.41.92//
CALSCALE:GREGORIAN
METHOD:PUBLISH
UID:36336234-3763-4366-b063-616464333530
X-WR-CALNAME:iCagenda
X-WR-CALDESC:Event Management Extension for Joomla!
X-WR-RELCALID:3E26604A-50F4-4449-8B3E-E4F4932D05B5
X-WR-TIMEZONE:Europe/Berlin
BEGIN:VTIMEZONE
TZID:Europe/Berlin
TZUNTIL:20181028T010000Z
BEGIN:STANDARD
TZNAME:CET
DTSTART:20161030T030000
TZOFFSETFROM:+0200
TZOFFSETTO:+0100
RDATE:20171029T030000
END:STANDARD
BEGIN:DAYLIGHT
TZNAME:CEST
DTSTART:20160327T020000
TZOFFSETFROM:+0100
TZOFFSETTO:+0200
RDATE:20170326T020000
RDATE:20180325T020000
END:DAYLIGHT
END:VTIMEZONE
BEGIN:VEVENT
UID:36646430-3032-4030-b238-363338353731
DTSTAMP:20260422T161208Z
CATEGORIES:2017
CLASS:PUBLIC
DESCRIPTION:
DTSTART:20170316T190000Z
DTEND:20170316T190000Z
GEO:+51.654633;+9.655201
LOCATION:Kulturbahnhof Uslar
ORGANIZER:
SEQUENCE:1
SUMMARY:CARA: „Yet We Sing“
TRANSP:OPAQUE
URL:https://literatur-kunstkreis-uslar.de/index.php/programm/archiv/100-car
 a-yet-we-sing
END:VEVENT
END:VCALENDAR
