BEGIN:VCALENDAR
VERSION:2.0
PRODID:-//Literatur- und Kunstkreis Uslar e. V.//NONSGML kigkonsult.se iCalcreator 2.41.92//
CALSCALE:GREGORIAN
METHOD:PUBLISH
UID:34366230-3961-4361-a266-396439396631
X-WR-CALNAME:iCagenda
X-WR-CALDESC:Event Management Extension for Joomla!
X-WR-RELCALID:3E26604A-50F4-4449-8B3E-E4F4932D05B5
X-WR-TIMEZONE:Europe/Berlin
BEGIN:VTIMEZONE
TZID:Europe/Berlin
TZUNTIL:20190331T010000Z
BEGIN:STANDARD
TZNAME:CET
DTSTART:20161030T030000
TZOFFSETFROM:+0200
TZOFFSETTO:+0100
RDATE:20171029T030000
RDATE:20181028T030000
END:STANDARD
BEGIN:DAYLIGHT
TZNAME:CEST
DTSTART:20170326T020000
TZOFFSETFROM:+0100
TZOFFSETTO:+0200
RDATE:20180325T020000
END:DAYLIGHT
END:VTIMEZONE
BEGIN:VEVENT
UID:32366332-3961-4334-a563-633038343437
DTSTAMP:20260422T161204Z
CATEGORIES:2017
CLASS:PUBLIC
DESCRIPTION;ALTREP="CID:<FFFF__=0ABBE548DFE235B58f9e8a93d@coffeebean.com>":
 Welche literarische Qualität hat das Uslar Telefonbuch oder eine Kochanlei
 tung\, das selbstverfasste Gedicht oder der Beschwerdebrief der Nachbarin?
  Axel Garbelmann und Maiko Müller lesen alle Texte\, die die Zuschauer mit
 bringen.
DTSTART:20170909T180000Z
DTEND:20170909T180000Z
GEO:+51.658218;+9.634026
LOCATION:Museumsstübchen Uslar
ORGANIZER:
SEQUENCE:1
SUMMARY:Cold Reading
TRANSP:OPAQUE
URL:https://literatur-kunstkreis-uslar.de/index.php/programm/archiv/104-col
 d-reading
END:VEVENT
END:VCALENDAR
