BEGIN:VCALENDAR
VERSION:2.0
PRODID:-//Literatur- und Kunstkreis Uslar e. V.//NONSGML kigkonsult.se iCalcreator 2.41.92//
CALSCALE:GREGORIAN
METHOD:PUBLISH
UID:37313866-6663-4663-b962-626637363932
X-WR-CALNAME:iCagenda
X-WR-CALDESC:Event Management Extension for Joomla!
X-WR-RELCALID:3E26604A-50F4-4449-8B3E-E4F4932D05B5
X-WR-TIMEZONE:Europe/Berlin
BEGIN:VTIMEZONE
TZID:Europe/Berlin
TZUNTIL:20190331T010000Z
BEGIN:STANDARD
TZNAME:CET
DTSTART:20161030T030000
TZOFFSETFROM:+0200
TZOFFSETTO:+0100
RDATE:20171029T030000
RDATE:20181028T030000
END:STANDARD
BEGIN:DAYLIGHT
TZNAME:CEST
DTSTART:20170326T020000
TZOFFSETFROM:+0100
TZOFFSETTO:+0200
RDATE:20180325T020000
END:DAYLIGHT
END:VTIMEZONE
BEGIN:VEVENT
UID:31373330-6632-4335-b836-666532303839
DTSTAMP:20260422T161551Z
CATEGORIES:2017
CLASS:PUBLIC
DESCRIPTION;ALTREP="CID:<FFFF__=0ABBE548DFE235B58f9e8a93d@coffeebean.com>":
 Subversiv\, charmant und tiefgr&uuml\;ndig sch&ouml\;pfen Almut Schlichtin
 g und Sven Hinse alle M&ouml\;glichkeiten von Baritonsaxofon und Kontrabas
 s aus: Eine Melange aus Jazz\, Tango\, Impressionismus und Wiener Cafehaus
 musik.
DTSTART:20170923T180000Z
DTEND:20170923T180000Z
GEO:+51.658218;+9.634026
LOCATION:Museumsstübchen Uslar
ORGANIZER:
SEQUENCE:1
SUMMARY:Duo Subsystem - Tief ist das neue Hoch
TRANSP:OPAQUE
URL:https://literatur-kunstkreis-uslar.de/index.php/programm/archiv/105-duo
 -subsystem-tief-ist-das-neue-hoch
END:VEVENT
END:VCALENDAR
