BEGIN:VCALENDAR
VERSION:2.0
PRODID:-//Literatur- und Kunstkreis Uslar e. V.//NONSGML kigkonsult.se iCalcreator 2.41.92//
CALSCALE:GREGORIAN
METHOD:PUBLISH
UID:61313139-3838-4735-a431-353434323364
X-WR-CALNAME:iCagenda
X-WR-CALDESC:Event Management Extension for Joomla!
X-WR-RELCALID:3E26604A-50F4-4449-8B3E-E4F4932D05B5
X-WR-TIMEZONE:Europe/Berlin
BEGIN:VTIMEZONE
TZID:Europe/Berlin
TZUNTIL:20191027T010000Z
BEGIN:STANDARD
TZNAME:CET
DTSTART:20161030T030000
TZOFFSETFROM:+0200
TZOFFSETTO:+0100
RDATE:20171029T030000
RDATE:20181028T030000
END:STANDARD
BEGIN:DAYLIGHT
TZNAME:CEST
DTSTART:20170326T020000
TZOFFSETFROM:+0100
TZOFFSETTO:+0200
RDATE:20180325T020000
RDATE:20190331T020000
END:DAYLIGHT
END:VTIMEZONE
BEGIN:VEVENT
UID:65663131-3432-4738-a466-363933356337
DTSTAMP:20260422T161449Z
CATEGORIES:2017
CLASS:PUBLIC
DESCRIPTION;ALTREP="CID:<FFFF__=0ABBE548DFE235B58f9e8a93d@coffeebean.com>":
 Wer kennt Peter von Sassen nicht als Moderator von „Hallo Niedersachsen“? 
 Er kann aber auch anders und präsentiert eine packende Multimedia-Show übe
 r Astrid Lindgren für jung und alt. Ein Abend für die ganze Familie!
DTSTART:20171020T180000Z
DTEND:20171020T180000Z
GEO:+51.659389;+9.63189
LOCATION:Ev. Gemeindehaus Uslar
ORGANIZER:
SEQUENCE:1
SUMMARY:Astrid Lindgren multimedial
TRANSP:OPAQUE
URL:https://literatur-kunstkreis-uslar.de/index.php/programm/archiv/107-ast
 rid-lindgreen-multimedial
END:VEVENT
END:VCALENDAR
