BEGIN:VCALENDAR
VERSION:2.0
PRODID:-//Literatur- und Kunstkreis Uslar e. V.//NONSGML kigkonsult.se iCalcreator 2.41.92//
CALSCALE:GREGORIAN
METHOD:PUBLISH
UID:65656339-3765-4235-b930-616334643736
X-WR-CALNAME:iCagenda
X-WR-CALDESC:Event Management Extension for Joomla!
X-WR-RELCALID:3E26604A-50F4-4449-8B3E-E4F4932D05B5
X-WR-TIMEZONE:Europe/Berlin
BEGIN:VTIMEZONE
TZID:Europe/Berlin
TZUNTIL:20191027T010000Z
BEGIN:STANDARD
TZNAME:CET
DTSTART:20171029T030000
TZOFFSETFROM:+0200
TZOFFSETTO:+0100
RDATE:20181028T030000
END:STANDARD
BEGIN:DAYLIGHT
TZNAME:CEST
DTSTART:20170326T020000
TZOFFSETFROM:+0100
TZOFFSETTO:+0200
RDATE:20180325T020000
RDATE:20190331T020000
END:DAYLIGHT
END:VTIMEZONE
BEGIN:VEVENT
UID:33643136-3763-4736-b563-643134623231
DTSTAMP:20260422T161327Z
CATEGORIES:2017
CLASS:PUBLIC
DESCRIPTION;ALTREP="CID:<FFFF__=0ABBE548DFE235B58f9e8a93d@coffeebean.com>":
 Wenn die Südsee den Staffelsee trifft\, entsteht ein einzigartiger Mix von
  Americana und Musik aus dem Oberland: Blues und Landler\, Polka und Hawai
 ian Hot Swing.\nVor zwei Jahren kam es im Blauen Land in Bayern zu einer s
 pontanen Begegnung der Musiker der Gruppe Font Porch Picking aus dem südli
 chen Niedersachsen mit den „Foildmuck´n“\, drei jungen Musikanten aus dem 
 bayerischen Uffing am Staffelsee. Zwei Generationen trafen aufeinander\, d
 er Süden des Nordens traf auf Oberbayern.\nMan musizierte spontan gemeinsa
 m und der Funke sprang über von Folk\, Blues\, Americana und hawaiianische
 n Klängen zu jugendlich-frischer traditionell bayerisch-österreichischer V
 olksmusik. Gitarren &amp\; Slide-Gitarren\, Mandoline\, Ukulele\, Kontraba
 ss und Perkussion trafen auf Knopfakkordeon und Tuba. Eine folgenreiche Be
 gegnung: Gemeinsamen Auftritten in Bayern folgt nun der Gegenbesuch.\nDrei
  Auftritte wird es geben in der Region: Nach dem Start der kleinen Tour am
  10.11. im Gasthaus Johanning geht es am 11.11. weiter in der Alten Brauer
 ei Northeim (Veranstalter ist dort die Initiative Kunst &amp\; Kultur Nort
 heim e. V.) und dann am 12.11. zum Abschluss auf die Bühne in der Osthalle
  der Uni-Klinik Göttingen zu „Kult(o)ur am Sonntag“.
DTSTART:20171110T190000Z
DTEND:20171110T190000Z
GEO:+51.67968;+9.640596
LOCATION:Gasthaus Johanning
ORGANIZER:
SEQUENCE:1
SUMMARY:Aloha Bavaria! Front Porch Picking & d´Foildmuck´n
TRANSP:OPAQUE
URL:https://literatur-kunstkreis-uslar.de/index.php/programm/archiv/109-von
 -blues-bis-swing
END:VEVENT
END:VCALENDAR
