BEGIN:VCALENDAR
VERSION:2.0
PRODID:-//Literatur- und Kunstkreis Uslar e. V.//NONSGML kigkonsult.se iCalcreator 2.41.92//
CALSCALE:GREGORIAN
METHOD:PUBLISH
UID:39333831-3564-4662-b561-653065316232
X-WR-CALNAME:iCagenda
X-WR-CALDESC:Event Management Extension for Joomla!
X-WR-RELCALID:3E26604A-50F4-4449-8B3E-E4F4932D05B5
X-WR-TIMEZONE:Europe/Berlin
BEGIN:VTIMEZONE
TZID:Europe/Berlin
TZUNTIL:20111030T010000Z
BEGIN:STANDARD
TZNAME:CET
DTSTART:20091025T030000
TZOFFSETFROM:+0200
TZOFFSETTO:+0100
RDATE:20101031T030000
END:STANDARD
BEGIN:DAYLIGHT
TZNAME:CEST
DTSTART:20090329T020000
TZOFFSETFROM:+0100
TZOFFSETTO:+0200
RDATE:20100328T020000
RDATE:20110327T020000
END:DAYLIGHT
END:VTIMEZONE
BEGIN:VEVENT
UID:38616338-3834-4430-b638-653131666633
DTSTAMP:20260422T150006Z
CATEGORIES:2010
CLASS:PUBLIC
DESCRIPTION:
DTSTART:20100122T180000Z
DTEND:20100122T180000Z
GEO:+51.658913;+9.635064
LOCATION:Hotel Menzhausen
ORGANIZER:
SEQUENCE:1
SUMMARY:'Literarische Kostproben'
TRANSP:OPAQUE
URL:https://literatur-kunstkreis-uslar.de/index.php/programm/archiv/11-lite
 rarische-kostproben
END:VEVENT
END:VCALENDAR
