BEGIN:VCALENDAR
VERSION:2.0
PRODID:-//Literatur- und Kunstkreis Uslar e. V.//NONSGML kigkonsult.se iCalcreator 2.41.92//
CALSCALE:GREGORIAN
METHOD:PUBLISH
UID:63646665-3063-4138-b962-333636386632
X-WR-CALNAME:iCagenda
X-WR-CALDESC:Event Management Extension for Joomla!
X-WR-RELCALID:3E26604A-50F4-4449-8B3E-E4F4932D05B5
X-WR-TIMEZONE:Europe/Berlin
BEGIN:VTIMEZONE
TZID:Europe/Berlin
TZUNTIL:20191027T010000Z
BEGIN:STANDARD
TZNAME:CET
DTSTART:20171029T030000
TZOFFSETFROM:+0200
TZOFFSETTO:+0100
RDATE:20181028T030000
END:STANDARD
BEGIN:DAYLIGHT
TZNAME:CEST
DTSTART:20170326T020000
TZOFFSETFROM:+0100
TZOFFSETTO:+0200
RDATE:20180325T020000
RDATE:20190331T020000
END:DAYLIGHT
END:VTIMEZONE
BEGIN:VEVENT
UID:33636231-3363-4834-b032-616263343034
DTSTAMP:20260422T161552Z
CATEGORIES:2018
CLASS:PUBLIC
DESCRIPTION;ALTREP="CID:<FFFF__=0ABBE548DFE235B58f9e8a93d@coffeebean.com>":
 Beschwingte Walzer und spritzige Polkas nach Wiener Tradition bescheren ei
 ne traumhafte Stimmung im Dreivierteltakt. Die &bdquo\;Echo Klassik&ldquo\
 ; - Gewinnerin Asya Fateyeva begeistert als Solistin mit Francois Bornes &
 bdquo\;Fantasie brillante&ldquo\;. So kann das Jahr gut beginnen.
DTSTART:20180105T190000Z
DTEND:20180105T190000Z
GEO:+51.667221;+9.63117
LOCATION:Forum Gymnasiums Uslar
ORGANIZER:
SEQUENCE:1
SUMMARY:Träume - Neujahrskonzert mit dem GSO
TRANSP:OPAQUE
URL:https://literatur-kunstkreis-uslar.de/index.php/programm/archiv/110-tra
 eume-neujahrskonzert-mit-dem-gso
END:VEVENT
END:VCALENDAR
