BEGIN:VCALENDAR
VERSION:2.0
PRODID:-//Literatur- und Kunstkreis Uslar e. V.//NONSGML kigkonsult.se iCalcreator 2.41.92//
CALSCALE:GREGORIAN
METHOD:PUBLISH
UID:33303931-3038-4630-a434-633763333037
X-WR-CALNAME:iCagenda
X-WR-CALDESC:Event Management Extension for Joomla!
X-WR-RELCALID:3E26604A-50F4-4449-8B3E-E4F4932D05B5
X-WR-TIMEZONE:Europe/Berlin
BEGIN:VTIMEZONE
TZID:Europe/Berlin
TZUNTIL:20191027T010000Z
BEGIN:STANDARD
TZNAME:CET
DTSTART:20171029T030000
TZOFFSETFROM:+0200
TZOFFSETTO:+0100
RDATE:20181028T030000
END:STANDARD
BEGIN:DAYLIGHT
TZNAME:CEST
DTSTART:20170326T020000
TZOFFSETFROM:+0100
TZOFFSETTO:+0200
RDATE:20180325T020000
RDATE:20190331T020000
END:DAYLIGHT
END:VTIMEZONE
BEGIN:VEVENT
UID:64636562-3261-4666-a232-363433643130
DTSTAMP:20260422T161431Z
CATEGORIES:2018
CLASS:PUBLIC
DESCRIPTION;ALTREP="CID:<FFFF__=0ABBE548DFE235B58f9e8a93d@coffeebean.com>":
 Frei nach Christine Br&uuml\;ckner: Zum Weltfrauentag l&auml\;sst das Duo 
 &bdquo\;Wilder Mohn&ldquo\; (Maria-Anne Langefeld und Carmen Barann) am&uu
 ml\;sant und frivol vier starke weibliche Pers&ouml\;nlichkeiten aus Gesch
 ichte und Literatur fiktiv zu Wort kommen\, umrahmt von Susanne Dreyers Ha
 rfenkl&auml\;ngen.\n
DTSTART:20180308T190000Z
DTEND:20180308T190000Z
GEO:+51.658817;+9.634384
LOCATION:Altes Rathaus Uslar
ORGANIZER:
SEQUENCE:1
SUMMARY:Wenn du geredet hättest...
TRANSP:OPAQUE
URL:https://literatur-kunstkreis-uslar.de/index.php/programm/archiv/112-wen
 n-du-geredet-haettest
END:VEVENT
END:VCALENDAR
