BEGIN:VCALENDAR
VERSION:2.0
PRODID:-//Literatur- und Kunstkreis Uslar e. V.//NONSGML kigkonsult.se iCalcreator 2.41.92//
CALSCALE:GREGORIAN
METHOD:PUBLISH
UID:38373764-3062-4737-a163-373632373462
X-WR-CALNAME:iCagenda
X-WR-CALDESC:Event Management Extension for Joomla!
X-WR-RELCALID:3E26604A-50F4-4449-8B3E-E4F4932D05B5
X-WR-TIMEZONE:Europe/Berlin
BEGIN:VTIMEZONE
TZID:Europe/Berlin
TZUNTIL:20191027T010000Z
BEGIN:STANDARD
TZNAME:CET
DTSTART:20171029T030000
TZOFFSETFROM:+0200
TZOFFSETTO:+0100
RDATE:20181028T030000
END:STANDARD
BEGIN:DAYLIGHT
TZNAME:CEST
DTSTART:20180325T020000
TZOFFSETFROM:+0100
TZOFFSETTO:+0200
RDATE:20190331T020000
END:DAYLIGHT
END:VTIMEZONE
BEGIN:VEVENT
UID:38643538-3231-4637-a135-613465366433
DTSTAMP:20260422T161627Z
CATEGORIES:2018
CLASS:PUBLIC
DESCRIPTION;ALTREP="CID:<FFFF__=0ABBE548DFE235B58f9e8a93d@coffeebean.com>":
 Raus aus dem Alltag\, ran an die Zapfsäule und die Seele auftanken! In der
  Sohlinger Kapelle wird an diesem Abend zum ersten Mal die Literaturtankst
 elle eröffnet! Justus Pahlow und Ralf Jasper lesen Texte aus und über Irla
 nd. Spirited Ireland sorgt für mitreißende Musik.
DTSTART:20180414T180000Z
DTEND:20180414T180000Z
GEO:+51.671165;+9.600891
LOCATION:Kapelle Sohlingen
ORGANIZER:
SEQUENCE:1
SUMMARY:Literaturtankstelle: Irischer Abend
TRANSP:OPAQUE
URL:https://literatur-kunstkreis-uslar.de/index.php/programm/archiv/113-lit
 eraturtankstelle-irischer-abend
END:VEVENT
END:VCALENDAR
