BEGIN:VCALENDAR
VERSION:2.0
PRODID:-//Literatur- und Kunstkreis Uslar e. V.//NONSGML kigkonsult.se iCalcreator 2.41.92//
CALSCALE:GREGORIAN
METHOD:PUBLISH
UID:39336463-3536-4832-b136-353835353136
X-WR-CALNAME:iCagenda
X-WR-CALDESC:Event Management Extension for Joomla!
X-WR-RELCALID:3E26604A-50F4-4449-8B3E-E4F4932D05B5
X-WR-TIMEZONE:Europe/Berlin
BEGIN:VTIMEZONE
TZID:Europe/Berlin
TZUNTIL:20191027T010000Z
BEGIN:STANDARD
TZNAME:CET
DTSTART:20171029T030000
TZOFFSETFROM:+0200
TZOFFSETTO:+0100
RDATE:20181028T030000
END:STANDARD
BEGIN:DAYLIGHT
TZNAME:CEST
DTSTART:20180325T020000
TZOFFSETFROM:+0100
TZOFFSETTO:+0200
RDATE:20190331T020000
END:DAYLIGHT
END:VTIMEZONE
BEGIN:VEVENT
UID:61373463-6565-4562-b131-323062396236
DTSTAMP:20260422T161653Z
CATEGORIES:2018
CLASS:PUBLIC
DESCRIPTION;ALTREP="CID:<FFFF__=0ABBE548DFE235B58f9e8a93d@coffeebean.com>":
 Alice und ihre beste Freundin tauchen immer tiefer ein in die Welt der Roo
 fer - bis eine Mutprobe alles infrage stellt: Muss man f&uuml\;r die Liebe
  wirklich jede Grenze &uuml\;berschreiten?
DTSTART:20180417T220000Z
DTEND:20180417T220000Z
GEO:+51.667221;+9.63117
LOCATION:Gymnasium Uslar
ORGANIZER:
SEQUENCE:1
SUMMARY:Roofer - Autorenlesung mit Jutta Wilke
TRANSP:OPAQUE
URL:https://literatur-kunstkreis-uslar.de/index.php/programm/archiv/114-roo
 fer-autorenlesung-mit-jutta-wilke
END:VEVENT
END:VCALENDAR
