BEGIN:VCALENDAR
VERSION:2.0
PRODID:-//Literatur- und Kunstkreis Uslar e. V.//NONSGML kigkonsult.se iCalcreator 2.41.92//
CALSCALE:GREGORIAN
METHOD:PUBLISH
UID:32333830-3738-4339-a133-313965666539
X-WR-CALNAME:iCagenda
X-WR-CALDESC:Event Management Extension for Joomla!
X-WR-RELCALID:3E26604A-50F4-4449-8B3E-E4F4932D05B5
X-WR-TIMEZONE:Europe/Berlin
BEGIN:VTIMEZONE
TZID:Europe/Berlin
TZUNTIL:20200329T010000Z
BEGIN:STANDARD
TZNAME:CET
DTSTART:20171029T030000
TZOFFSETFROM:+0200
TZOFFSETTO:+0100
RDATE:20181028T030000
RDATE:20191027T030000
END:STANDARD
BEGIN:DAYLIGHT
TZNAME:CEST
DTSTART:20180325T020000
TZOFFSETFROM:+0100
TZOFFSETTO:+0200
RDATE:20190331T020000
END:DAYLIGHT
END:VTIMEZONE
BEGIN:VEVENT
UID:66653931-6234-4535-a532-626164323335
DTSTAMP:20260422T202537Z
CATEGORIES:2018
CLASS:PUBLIC
DESCRIPTION;ALTREP="CID:<FFFF__=0ABBE548DFE235B58f9e8a93d@coffeebean.com>":
 Sie sind weltberühmt und trotzdem der Geheimtipp\, aber in unserer Region 
 kennt man sie: Der irische Chor Anuna füllte schon zweimal die Klosterkirc
 he bis auf den allerletzten Platz und verzauberte das gebannte Publikum mi
 t seinen kristallklaren Stimmen und mystischer Anziehungskraft.
DTSTART:20180429T160000Z
DTEND:20180429T160000Z
GEO:+51.625256;+9.557878
LOCATION:Klosterkirche Lippoldsberg
ORGANIZER:
SEQUENCE:1
SUMMARY:Celtic Spirit: Irische Chormusik mit Anúna
TRANSP:OPAQUE
URL:https://literatur-kunstkreis-uslar.de/index.php/programm/archiv/115-cel
 tic-spirit-irische-chormusik-mit-anuna
END:VEVENT
END:VCALENDAR
