BEGIN:VCALENDAR
VERSION:2.0
PRODID:-//Literatur- und Kunstkreis Uslar e. V.//NONSGML kigkonsult.se iCalcreator 2.41.92//
CALSCALE:GREGORIAN
METHOD:PUBLISH
UID:66353964-3030-4664-a162-366133656337
X-WR-CALNAME:iCagenda
X-WR-CALDESC:Event Management Extension for Joomla!
X-WR-RELCALID:3E26604A-50F4-4449-8B3E-E4F4932D05B5
X-WR-TIMEZONE:Europe/Berlin
BEGIN:VTIMEZONE
TZID:Europe/Berlin
TZUNTIL:20200329T010000Z
BEGIN:STANDARD
TZNAME:CET
DTSTART:20171029T030000
TZOFFSETFROM:+0200
TZOFFSETTO:+0100
RDATE:20181028T030000
RDATE:20191027T030000
END:STANDARD
BEGIN:DAYLIGHT
TZNAME:CEST
DTSTART:20180325T020000
TZOFFSETFROM:+0100
TZOFFSETTO:+0200
RDATE:20190331T020000
END:DAYLIGHT
END:VTIMEZONE
BEGIN:VEVENT
UID:35316430-6136-4461-b737-303939363239
DTSTAMP:20260422T161329Z
CATEGORIES:2018
CLASS:PUBLIC
DESCRIPTION;ALTREP="CID:<FFFF__=0ABBE548DFE235B58f9e8a93d@coffeebean.com>":
 Lesung\nDer bekannte Naturfotograf und langj&auml\;hrige Kranich-Ranger ga
 stiert gleich 3x in Uslar: Mit einer wunderbaren Ausstellung mit meisterha
 ften Fotos und fachkundigen Infos\, einer mitrei&szlig\;enden Lesung &uuml
 \;ber die &bdquo\;V&ouml\;gel des Gl&uuml\;cks&ldquo\; und mit einer aufre
 genden Multimediaschau &bdquo\;Wenn die Kraniche ziehen&ldquo\;.\n\nBeacht
 en Sie bitte auch folgenden Termine:\nDi.\, 15.05.2018 &ndash\; Mo.\, 18.0
 6.2018 Ausstellung\nDi.\, 29.05.2018\, 20:00 Uhr Multimediashow
DTSTART:20180522T180000Z
DTEND:20180522T180000Z
GEO:+51.658817;+9.634384
LOCATION:Altes Rathaus Uslar
ORGANIZER:
SEQUENCE:1
SUMMARY:Carsten Linde: Kraniche
TRANSP:OPAQUE
URL:https://literatur-kunstkreis-uslar.de/index.php/programm/archiv/117-car
 sten-linde-kraniche
END:VEVENT
END:VCALENDAR
