BEGIN:VCALENDAR
VERSION:2.0
PRODID:-//Literatur- und Kunstkreis Uslar e. V.//NONSGML kigkonsult.se iCalcreator 2.41.92//
CALSCALE:GREGORIAN
METHOD:PUBLISH
UID:39626263-3638-4634-b432-306637303233
X-WR-CALNAME:iCagenda
X-WR-CALDESC:Event Management Extension for Joomla!
X-WR-RELCALID:3E26604A-50F4-4449-8B3E-E4F4932D05B5
X-WR-TIMEZONE:Europe/Berlin
BEGIN:VTIMEZONE
TZID:Europe/Berlin
TZUNTIL:20200329T010000Z
BEGIN:STANDARD
TZNAME:CET
DTSTART:20171029T030000
TZOFFSETFROM:+0200
TZOFFSETTO:+0100
RDATE:20181028T030000
RDATE:20191027T030000
END:STANDARD
BEGIN:DAYLIGHT
TZNAME:CEST
DTSTART:20180325T020000
TZOFFSETFROM:+0100
TZOFFSETTO:+0200
RDATE:20190331T020000
END:DAYLIGHT
END:VTIMEZONE
BEGIN:VEVENT
UID:32616333-6162-4632-b137-663435656562
DTSTAMP:20260422T161208Z
CATEGORIES:2018
CLASS:PUBLIC
DESCRIPTION;ALTREP="CID:<FFFF__=0ABBE548DFE235B58f9e8a93d@coffeebean.com>":
 Post vom Spinner! Deutschlands bekanntester Jux-Briefschreiber mit aktuell
 er Nonsens-Korrespondenz nervt Beh&ouml\;rden\, Unternehmen und Amtstr&aum
 l\;ger. Seine Briefe wie die Antwortschreiben bringen das Publikum immer w
 ieder zu schallendem Gel&auml\;chter.
DTSTART:20180810T180000Z
DTEND:20180810T180000Z
GEO:+51.658817;+9.634384
LOCATION:Gildesaal im Alten Rathaus
ORGANIZER:
SEQUENCE:1
SUMMARY:Bornemann\, der „Briefmacker“
TRANSP:OPAQUE
URL:https://literatur-kunstkreis-uslar.de/index.php/programm/archiv/119-bor
 nemann-der-briefmacker
END:VEVENT
END:VCALENDAR
