BEGIN:VCALENDAR
VERSION:2.0
PRODID:-//Literatur- und Kunstkreis Uslar e. V.//NONSGML kigkonsult.se iCalcreator 2.41.92//
CALSCALE:GREGORIAN
METHOD:PUBLISH
UID:62366238-6161-4633-b937-323766353230
X-WR-CALNAME:iCagenda
X-WR-CALDESC:Event Management Extension for Joomla!
X-WR-RELCALID:3E26604A-50F4-4449-8B3E-E4F4932D05B5
X-WR-TIMEZONE:Europe/Berlin
BEGIN:VTIMEZONE
TZID:Europe/Berlin
TZUNTIL:20111030T010000Z
BEGIN:STANDARD
TZNAME:CET
DTSTART:20091025T030000
TZOFFSETFROM:+0200
TZOFFSETTO:+0100
RDATE:20101031T030000
END:STANDARD
BEGIN:DAYLIGHT
TZNAME:CEST
DTSTART:20090329T020000
TZOFFSETFROM:+0100
TZOFFSETTO:+0200
RDATE:20100328T020000
RDATE:20110327T020000
END:DAYLIGHT
END:VTIMEZONE
BEGIN:VEVENT
UID:37313037-3332-4135-b966-313831653062
DTSTAMP:20260422T150224Z
CATEGORIES:2010
CLASS:PUBLIC
DESCRIPTION;ALTREP="CID:<FFFF__=0ABBE548DFE235B58f9e8a93d@coffeebean.com>":
 Lebenskonzepte für die Zukunft\n\nHenning Scherf (Foto:Senatspressestelle 
 Bremen)\n\nHenning Scherf (Foto links) schreibt in seinem Buch 'Grau ist b
 unt'\, dass unsere Gesellschaft nur lebenswert bleiben wird\, wenn die Gen
 erationen gemeinsame Sache machen. Wie können die Gemeinsamkeiten aussehen
  und wie können wir unsere Gesellschaft angesichts des demographischen Wan
 dels aktiv mitgestalten?  Der ehemalige Bremer Bürgermeister stellt Ideen 
 und Konzepte vor\, und das Beste ist: Er lebt sie selbst! Lebensgestaltung
  im Alter\, ein Generationenthema\, das jeden betrifft - früher oder späte
 r. Am Dienstag\, den 23.02. kommt Henning Scherf auf Einladung des Literat
 ur- u. Kunstkreises Uslar e.V. zu einem Vortrag nach Uslar. Durch seine Öf
 fentlichkeitsarbeit und Vortragstätigkeit unterstützt er den Verein Pan y 
 Arte zur Förderung von Kulturprojekten in Nicaragua. Beginn der Veranstalt
 ung: 20.00 Uhr im Saal des Hotels Menzhausen. Eintrittspreise: 10\,-€ / fü
 r Mitglieder des LuK: 7\,- €  Im Anschluss an den Vortrag besteht die Mögl
 ichkeit zu Austausch und Diskussion mit dem bürgernahen und populären Redn
 er.
DTSTART:20100223T190000Z
DTEND:20100223T190000Z
GEO:+51.658913;+9.635064
LOCATION:Hotel Menzhausen
ORGANIZER:
SEQUENCE:1
SUMMARY:'Grau ist bunt'
TRANSP:OPAQUE
URL:https://literatur-kunstkreis-uslar.de/index.php/programm/archiv/12-grau
 -ist-bunt
END:VEVENT
END:VCALENDAR
