BEGIN:VCALENDAR
VERSION:2.0
PRODID:-//Literatur- und Kunstkreis Uslar e. V.//NONSGML kigkonsult.se iCalcreator 2.41.92//
CALSCALE:GREGORIAN
METHOD:PUBLISH
UID:39353635-6434-4139-b731-353137646462
X-WR-CALNAME:iCagenda
X-WR-CALDESC:Event Management Extension for Joomla!
X-WR-RELCALID:3E26604A-50F4-4449-8B3E-E4F4932D05B5
X-WR-TIMEZONE:Europe/Berlin
BEGIN:VTIMEZONE
TZID:Europe/Berlin
TZUNTIL:20200329T010000Z
BEGIN:STANDARD
TZNAME:CET
DTSTART:20171029T030000
TZOFFSETFROM:+0200
TZOFFSETTO:+0100
RDATE:20181028T030000
RDATE:20191027T030000
END:STANDARD
BEGIN:DAYLIGHT
TZNAME:CEST
DTSTART:20180325T020000
TZOFFSETFROM:+0100
TZOFFSETTO:+0200
RDATE:20190331T020000
END:DAYLIGHT
END:VTIMEZONE
BEGIN:VEVENT
UID:32656164-3037-4835-b136-316232636561
DTSTAMP:20260422T161622Z
CATEGORIES:2018
CLASS:PUBLIC
DESCRIPTION;ALTREP="CID:<FFFF__=0ABBE548DFE235B58f9e8a93d@coffeebean.com>":
 Die Band tritt auf mit unverf&auml\;lschtem New-Orleans-Jazz und dem Rhyth
 mus von Swing\, Blues und Ragtime\, dem sich niemand entziehen kann. Die 6
  Oldies\, alles hochkar&auml\;tige Jazzer\, versprechen ein mitrei&szlig\;
 endes Konzert mit fr&ouml\;hlicher Zeitreise f&uuml\;r Jung und Alt.
DTSTART:20180831T180000Z
DTEND:20180831T180000Z
GEO:+51.67968;+9.640596
LOCATION:Gasthaus „Zur Erholung“
ORGANIZER:
SEQUENCE:1
SUMMARY:Oldtime Jazz: Heye' s Society
TRANSP:OPAQUE
URL:https://literatur-kunstkreis-uslar.de/index.php/programm/archiv/120-old
 time-jazz-heye-s-society
END:VEVENT
END:VCALENDAR
