BEGIN:VCALENDAR
VERSION:2.0
PRODID:-//Literatur- und Kunstkreis Uslar e. V.//NONSGML kigkonsult.se iCalcreator 2.41.92//
CALSCALE:GREGORIAN
METHOD:PUBLISH
UID:39623438-3863-4433-b364-386161386132
X-WR-CALNAME:iCagenda
X-WR-CALDESC:Event Management Extension for Joomla!
X-WR-RELCALID:3E26604A-50F4-4449-8B3E-E4F4932D05B5
X-WR-TIMEZONE:Europe/Berlin
BEGIN:VTIMEZONE
TZID:Europe/Berlin
TZUNTIL:20200329T010000Z
BEGIN:STANDARD
TZNAME:CET
DTSTART:20171029T030000
TZOFFSETFROM:+0200
TZOFFSETTO:+0100
RDATE:20181028T030000
RDATE:20191027T030000
END:STANDARD
BEGIN:DAYLIGHT
TZNAME:CEST
DTSTART:20180325T020000
TZOFFSETFROM:+0100
TZOFFSETTO:+0200
RDATE:20190331T020000
END:DAYLIGHT
END:VTIMEZONE
BEGIN:VEVENT
UID:37363664-6364-4963-b934-666530656430
DTSTAMP:20260422T161806Z
CATEGORIES:2018
CLASS:PUBLIC
DESCRIPTION;ALTREP="CID:<FFFF__=0ABBE548DFE235B58f9e8a93d@coffeebean.com>":
 Wichtiger Hinweis: Diese Veranstaltung muss aus Krankheitsgründen leider a
 usfallen!\nDrei Brüder im Geiste rocken zärtl ch die Bühne mit ihren Liede
 rn für Laute und Leise. Sie entführen das Publikum mit Witz und Wortspiel 
 in ein Wunderland der Liebe und der gemischten Gefühle. Matthias „Matze“\,
  Thomas „T.“ und Peter „Bautzi“ heißen diese drei Bamautzky-Teufelskerle.
DTSTART:20180922T180000Z
DTEND:20180922T180000Z
GEO:+51.658218;+9.634026
LOCATION:Museumsstübchen Uslar
ORGANIZER:
SEQUENCE:1
SUMMARY:Uslarer Nacht der Kultur: Bamautzkys
TRANSP:OPAQUE
URL:https://literatur-kunstkreis-uslar.de/index.php/programm/archiv/121-usl
 arer-nacht-der-kultur-bamautzkys
END:VEVENT
END:VCALENDAR
