BEGIN:VCALENDAR
VERSION:2.0
PRODID:-//Literatur- und Kunstkreis Uslar e. V.//NONSGML kigkonsult.se iCalcreator 2.41.92//
CALSCALE:GREGORIAN
METHOD:PUBLISH
UID:34336131-3038-4430-b962-623430333736
X-WR-CALNAME:iCagenda
X-WR-CALDESC:Event Management Extension for Joomla!
X-WR-RELCALID:3E26604A-50F4-4449-8B3E-E4F4932D05B5
X-WR-TIMEZONE:Europe/Berlin
BEGIN:VTIMEZONE
TZID:Europe/Berlin
TZUNTIL:20201025T010000Z
BEGIN:STANDARD
TZNAME:CET
DTSTART:20171029T030000
TZOFFSETFROM:+0200
TZOFFSETTO:+0100
RDATE:20181028T030000
RDATE:20191027T030000
END:STANDARD
BEGIN:DAYLIGHT
TZNAME:CEST
DTSTART:20180325T020000
TZOFFSETFROM:+0100
TZOFFSETTO:+0200
RDATE:20190331T020000
RDATE:20200329T020000
END:DAYLIGHT
END:VTIMEZONE
BEGIN:VEVENT
UID:66363537-6563-4431-b038-636564316534
DTSTAMP:20260422T145919Z
CATEGORIES:2018
CLASS:PUBLIC
DESCRIPTION;ALTREP="CID:<FFFF__=0ABBE548DFE235B58f9e8a93d@coffeebean.com>":
 &bdquo\;Poetry Slam ist Rock 'n' Roll f&uuml\;r Unmusikalische'\, sagt Mod
 erator Felix R&ouml\;mer. Wer will einen selbstverfassten Text publikumswi
 rksam vortragen?\nEinheimische Talente gesucht!
DTSTART:20181027T173000Z
DTEND:20181027T173000Z
GEO:+51.654633;+9.655201
LOCATION:KulturBahnhof Uslar
ORGANIZER:
SEQUENCE:1
SUMMARY:5. Solling Poetry Slam
TRANSP:OPAQUE
URL:https://literatur-kunstkreis-uslar.de/index.php/programm/archiv/122-5-s
 olling-poetry-slam
END:VEVENT
END:VCALENDAR
