BEGIN:VCALENDAR
VERSION:2.0
PRODID:-//Literatur- und Kunstkreis Uslar e. V.//NONSGML kigkonsult.se iCalcreator 2.41.92//
CALSCALE:GREGORIAN
METHOD:PUBLISH
UID:35663663-3664-4265-b864-653131353935
X-WR-CALNAME:iCagenda
X-WR-CALDESC:Event Management Extension for Joomla!
X-WR-RELCALID:3E26604A-50F4-4449-8B3E-E4F4932D05B5
X-WR-TIMEZONE:Europe/Berlin
BEGIN:VTIMEZONE
TZID:Europe/Berlin
TZUNTIL:20201025T010000Z
BEGIN:STANDARD
TZNAME:CET
DTSTART:20181028T030000
TZOFFSETFROM:+0200
TZOFFSETTO:+0100
RDATE:20191027T030000
END:STANDARD
BEGIN:DAYLIGHT
TZNAME:CEST
DTSTART:20180325T020000
TZOFFSETFROM:+0100
TZOFFSETTO:+0200
RDATE:20190331T020000
RDATE:20200329T020000
END:DAYLIGHT
END:VTIMEZONE
BEGIN:VEVENT
UID:36666464-3836-4736-b434-306536653364
DTSTAMP:20260422T151930Z
CATEGORIES:2018
CLASS:PUBLIC
DESCRIPTION;ALTREP="CID:<FFFF__=0ABBE548DFE235B58f9e8a93d@coffeebean.com>":
 Die bereits verkauften Karten für den alten Termin (Donnerstag\, 22. Novem
 ber 2018\, 20:00 Uhr) behalten ihre Gültigkeit. Wer an dem neuen Termin ve
 rhindert ist\, kann seine Karte in den Vorverkaufsstellen zurückgeben und 
 bekommt das Eintrittsgeld erstattet.\nDenis Scheck ist der bekannteste Lit
 eraturkritiker des Landes. Er führt durch das Dickicht von jährlich 90.000
  Neuerscheinungen auf dem Buchmarkt. Das spätherbstliche Auftanken an der 
 Literaturtankstelle bringt die Zuhörer sicher durch die Weihnachtszeit.
DTSTART:20190207T190000Z
DTEND:20190207T190000Z
GEO:+51.671165;+9.600891
LOCATION:Kapelle Sohlingen
ORGANIZER:
SEQUENCE:1
SUMMARY:Literaturtankstelle: Heißer Stoff
TRANSP:OPAQUE
URL:https://literatur-kunstkreis-uslar.de/index.php/programm/archiv/123-lit
 eraturtankstelle-heisser-stoff
END:VEVENT
END:VCALENDAR
