BEGIN:VCALENDAR
VERSION:2.0
PRODID:-//Literatur- und Kunstkreis Uslar e. V.//NONSGML kigkonsult.se iCalcreator 2.41.92//
CALSCALE:GREGORIAN
METHOD:PUBLISH
UID:32333435-6566-4361-a663-366136373162
X-WR-CALNAME:iCagenda
X-WR-CALDESC:Event Management Extension for Joomla!
X-WR-RELCALID:3E26604A-50F4-4449-8B3E-E4F4932D05B5
X-WR-TIMEZONE:Europe/Berlin
BEGIN:VTIMEZONE
TZID:Europe/Berlin
TZUNTIL:20201025T010000Z
BEGIN:STANDARD
TZNAME:CET
DTSTART:20171029T030000
TZOFFSETFROM:+0200
TZOFFSETTO:+0100
RDATE:20181028T030000
RDATE:20191027T030000
END:STANDARD
BEGIN:DAYLIGHT
TZNAME:CEST
DTSTART:20180325T020000
TZOFFSETFROM:+0100
TZOFFSETTO:+0200
RDATE:20190331T020000
RDATE:20200329T020000
END:DAYLIGHT
END:VTIMEZONE
BEGIN:VEVENT
UID:62353030-3731-4665-b939-363235393763
DTSTAMP:20260422T150700Z
CATEGORIES:2018
CLASS:PUBLIC
DESCRIPTION;ALTREP="CID:<FFFF__=0ABBE548DFE235B58f9e8a93d@coffeebean.com>":
 Ihr Name verspricht Spannung\, Petra Hammesfahr schreibt seit Jahrzehnten 
 Bücher\, mehr als vierzig sind es längst\, dazu kommen ihre Drehbücher.\nB
 ekannt wurde sie Anfang der Neunziger mit dem Bestseller Der stille Herr G
 enardy. Seitdem erobern ihre Spannungsromane die Bestsellerlisten\, werde 
 mit Preisen ausgezeichnet und erfolgreich verfilmt\, wie aktuell die Sünde
 rin. Unter dem Titel „The Sinner“ wurde die erfolgreiche Netflix-Serie mit
  Jessica Biel in der Hauptrolle produziert. Ihr aktuellstes Buch Als Luca 
 verschwand (Diana 2018) dreht sich um eine tragische Kindesentführung.\nIn
  Kooperation mit der Stadtbücherei Uslar und dem Literatur- und Kunstkreis
  Uslar e. V.\n \nHebst in der Region\nFoto (c) Wilfried Hammesfahr\nWeiter
 e Informationen zum Göttinger Literaturherbst unter:&nbsp\;www.literaturhe
 rbst.com
DTSTART:20181017T170000Z
DTEND:20181017T170000Z
GEO:+51.658886;+9.634507
LOCATION:Altes Rathaus Uslar
ORGANIZER:
SEQUENCE:1
SUMMARY:Petra Hammesfahr: Als Luca verschwand
TRANSP:OPAQUE
URL:https://literatur-kunstkreis-uslar.de/index.php/programm/archiv/124-pet
 ra-hammesfahr-als-luca-verschwand
END:VEVENT
END:VCALENDAR
