BEGIN:VCALENDAR
VERSION:2.0
PRODID:-//Literatur- und Kunstkreis Uslar e. V.//NONSGML kigkonsult.se iCalcreator 2.41.92//
CALSCALE:GREGORIAN
METHOD:PUBLISH
UID:38353531-6562-4434-a666-393838396364
X-WR-CALNAME:iCagenda
X-WR-CALDESC:Event Management Extension for Joomla!
X-WR-RELCALID:3E26604A-50F4-4449-8B3E-E4F4932D05B5
X-WR-TIMEZONE:Europe/Berlin
BEGIN:VTIMEZONE
TZID:Europe/Berlin
TZUNTIL:20201025T010000Z
BEGIN:STANDARD
TZNAME:CET
DTSTART:20181028T030000
TZOFFSETFROM:+0200
TZOFFSETTO:+0100
RDATE:20191027T030000
END:STANDARD
BEGIN:DAYLIGHT
TZNAME:CEST
DTSTART:20180325T020000
TZOFFSETFROM:+0100
TZOFFSETTO:+0200
RDATE:20190331T020000
RDATE:20200329T020000
END:DAYLIGHT
END:VTIMEZONE
BEGIN:VEVENT
UID:36316331-3462-4733-b966-336134393264
DTSTAMP:20260422T150007Z
CATEGORIES:2019
CLASS:PUBLIC
DESCRIPTION;ALTREP="CID:<FFFF__=0ABBE548DFE235B58f9e8a93d@coffeebean.com>":
 Mittlerweile nicht mehr aus dem Jahresanfang wegzudenken - ein Gastspiel d
 es Göttinger Symphonie Orchesters. Diesmal unter Leitung von Nicholas Milt
 on und mit Anna Luisa Kramb an der Violine wird das Ensemble mit einem ung
 arisch angehauchten Programm begeistern.
DTSTART:20190104T190000Z
DTEND:20190104T190000Z
GEO:+51.667221;+9.63117
LOCATION:Forum Gymnasium Uslar
ORGANIZER:
SEQUENCE:1
SUMMARY:Neujahrskonzert des GSO
TRANSP:OPAQUE
URL:https://literatur-kunstkreis-uslar.de/index.php/programm/archiv/125-neu
 jahrskonzert-des-gso
END:VEVENT
END:VCALENDAR
