BEGIN:VCALENDAR
VERSION:2.0
PRODID:-//Literatur- und Kunstkreis Uslar e. V.//NONSGML kigkonsult.se iCalcreator 2.41.92//
CALSCALE:GREGORIAN
METHOD:PUBLISH
UID:31663430-6165-4266-b364-643130383232
X-WR-CALNAME:iCagenda
X-WR-CALDESC:Event Management Extension for Joomla!
X-WR-RELCALID:3E26604A-50F4-4449-8B3E-E4F4932D05B5
X-WR-TIMEZONE:Europe/Berlin
BEGIN:VTIMEZONE
TZID:Europe/Berlin
TZUNTIL:20201025T010000Z
BEGIN:STANDARD
TZNAME:CET
DTSTART:20181028T030000
TZOFFSETFROM:+0200
TZOFFSETTO:+0100
RDATE:20191027T030000
END:STANDARD
BEGIN:DAYLIGHT
TZNAME:CEST
DTSTART:20180325T020000
TZOFFSETFROM:+0100
TZOFFSETTO:+0200
RDATE:20190331T020000
RDATE:20200329T020000
END:DAYLIGHT
END:VTIMEZONE
BEGIN:VEVENT
UID:33326562-3135-4734-a262-366135326162
DTSTAMP:20260422T150822Z
CATEGORIES:2019
CLASS:PUBLIC
DESCRIPTION:
DTSTART:20190112T180000Z
DTEND:20190112T180000Z
GEO:+51.671165;+9.600891
LOCATION:Kapelle Sohlingen
ORGANIZER:
SEQUENCE:1
SUMMARY:Literaturtankstelle: Jazz & Poesie
TRANSP:OPAQUE
URL:https://literatur-kunstkreis-uslar.de/index.php/programm/archiv/126-lit
 eraturtankstelle-jazz-poesie
END:VEVENT
END:VCALENDAR
