BEGIN:VCALENDAR
VERSION:2.0
PRODID:-//Literatur- und Kunstkreis Uslar e. V.//NONSGML kigkonsult.se iCalcreator 2.41.92//
CALSCALE:GREGORIAN
METHOD:PUBLISH
UID:62626530-6639-4534-b432-623866626462
X-WR-CALNAME:iCagenda
X-WR-CALDESC:Event Management Extension for Joomla!
X-WR-RELCALID:3E26604A-50F4-4449-8B3E-E4F4932D05B5
X-WR-TIMEZONE:Europe/Berlin
BEGIN:VTIMEZONE
TZID:Europe/Berlin
TZUNTIL:20201025T010000Z
BEGIN:STANDARD
TZNAME:CET
DTSTART:20181028T030000
TZOFFSETFROM:+0200
TZOFFSETTO:+0100
RDATE:20191027T030000
END:STANDARD
BEGIN:DAYLIGHT
TZNAME:CEST
DTSTART:20180325T020000
TZOFFSETFROM:+0100
TZOFFSETTO:+0200
RDATE:20190331T020000
RDATE:20200329T020000
END:DAYLIGHT
END:VTIMEZONE
BEGIN:VEVENT
UID:30613534-3736-4633-b031-363536616236
DTSTAMP:20260422T150356Z
CATEGORIES:2019
CLASS:PUBLIC
DESCRIPTION;ALTREP="CID:<FFFF__=0ABBE548DFE235B58f9e8a93d@coffeebean.com>":
 Mira hat eine Rechtschreibschwäche\, oder besser: Linkslesestärke. Das mit
  den Borten und Wuchstaben ist für sie so eine Sache. Als nebenan ein Mädc
 hen neu einzieht\, denkt Mira\, die Freundin fürs Leben gefunden zu haben\
 , aber da tun sich noch ganz neue Schwierigkeiten auf.
DTSTART:20190314T080000Z
DTEND:20190314T100000Z
GEO:+51.656517;+9.638077
LOCATION:Grundschule Uslar
ORGANIZER:
SEQUENCE:1
SUMMARY:Autorenlesung Anja Janotta
TRANSP:OPAQUE
URL:https://literatur-kunstkreis-uslar.de/index.php/programm/archiv/128-aut
 orenlesung-anja-janotta
END:VEVENT
END:VCALENDAR
