BEGIN:VCALENDAR
VERSION:2.0
PRODID:-//Literatur- und Kunstkreis Uslar e. V.//NONSGML kigkonsult.se iCalcreator 2.41.92//
CALSCALE:GREGORIAN
METHOD:PUBLISH
UID:61626162-6633-4939-a166-303738656338
X-WR-CALNAME:iCagenda
X-WR-CALDESC:Event Management Extension for Joomla!
X-WR-RELCALID:3E26604A-50F4-4449-8B3E-E4F4932D05B5
X-WR-TIMEZONE:Europe/Berlin
BEGIN:VTIMEZONE
TZID:Europe/Berlin
TZUNTIL:20201025T010000Z
BEGIN:STANDARD
TZNAME:CET
DTSTART:20181028T030000
TZOFFSETFROM:+0200
TZOFFSETTO:+0100
RDATE:20191027T030000
END:STANDARD
BEGIN:DAYLIGHT
TZNAME:CEST
DTSTART:20190331T020000
TZOFFSETFROM:+0100
TZOFFSETTO:+0200
RDATE:20200329T020000
END:DAYLIGHT
END:VTIMEZONE
BEGIN:VEVENT
UID:37316233-3564-4434-b631-656531613262
DTSTAMP:20260422T150817Z
CATEGORIES:2019
CLASS:PUBLIC
DESCRIPTION;ALTREP="CID:<FFFF__=0ABBE548DFE235B58f9e8a93d@coffeebean.com>":
 In 'Unterwegs'\, ihrer Hommage an das Leben\, pr&auml\;sentiert Gabi H&oum
 l\;rold eine feine Auswahl von Gedichten\, die auf Momentaufnahmen und Ged
 anken reduziert sind. Begleitet und erg&auml\;nzt wird H&ouml\;rold durch 
 die Berliner Insomnia Brass Band mit collagenhaftem\, improvisatorischem H
 &ouml\;rgenuss.
DTSTART:20190330T180000Z
DTEND:20190330T180000Z
GEO:+51.671165;+9.600891
LOCATION:Kapelle Sohlingen
ORGANIZER:
SEQUENCE:1
SUMMARY:Literaturtankstelle: Unterwegs & Insomnia Brass
TRANSP:OPAQUE
URL:https://literatur-kunstkreis-uslar.de/index.php/programm/archiv/129-lit
 eraturtankstelle-unterwegs-insomnia-brass
END:VEVENT
END:VCALENDAR
