BEGIN:VCALENDAR
VERSION:2.0
PRODID:-//Literatur- und Kunstkreis Uslar e. V.//NONSGML kigkonsult.se iCalcreator 2.41.92//
CALSCALE:GREGORIAN
METHOD:PUBLISH
UID:65643637-3338-4461-b438-336131333336
X-WR-CALNAME:iCagenda
X-WR-CALDESC:Event Management Extension for Joomla!
X-WR-RELCALID:3E26604A-50F4-4449-8B3E-E4F4932D05B5
X-WR-TIMEZONE:Europe/Berlin
BEGIN:VTIMEZONE
TZID:Europe/Berlin
TZUNTIL:20111030T010000Z
BEGIN:STANDARD
TZNAME:CET
DTSTART:20091025T030000
TZOFFSETFROM:+0200
TZOFFSETTO:+0100
RDATE:20101031T030000
END:STANDARD
BEGIN:DAYLIGHT
TZNAME:CEST
DTSTART:20090329T020000
TZOFFSETFROM:+0100
TZOFFSETTO:+0200
RDATE:20100328T020000
RDATE:20110327T020000
END:DAYLIGHT
END:VTIMEZONE
BEGIN:VEVENT
UID:63633465-3938-4436-a538-613637643330
DTSTAMP:20260422T150639Z
CATEGORIES:2010
CLASS:PUBLIC
DESCRIPTION;ALTREP="CID:<FFFF__=0ABBE548DFE235B58f9e8a93d@coffeebean.com>":
 Gepfeffertes Polit-Kabarett aus der 'Leipziger Pfeffermühle'\n\nDas Kabare
 tt-Ensemble Dieter Richter\,Franziska Schneider und Burkhard Damrau\n\nAm 
 18. März um 20.00 Uhr im Gasthaus Johanning in Eschershausen wird auf sati
 rische Weise über die Folgen der schwersten Krise der Finanzwirtschaft inf
 ormiert. „Krötenwanderung“ heißt das aktuelle Kabarettprogramm der 'Leipzi
 ger Pfeffermühle'\, das die Hintergründe und Auswirkungen der Finanzkrise 
 bissig-ironisch thematisiert. Angekündigt war zunächst ein anderer Program
 mtitel. Das Kabarett-Ensemble\, in der Besetzung\, Franziska Schneider\, B
 urkhard Damrau und Dieter Richter (Foto links)\, bringt jedoch sein allern
 eustes Programm in Uslar auf die Bühne.  Periodisch wandern die Kröten zum
  Zweck der Vermehrung aus den Hochsicherheitskatakomben der Banken über di
 e Spielwiese der freien Marktwirtschaft in den spekulativen Sumpf der Börs
 e. Doch dieser Weg wird kein leichter sein\, denn Jäger und Sammler liegen
  auf der Lauer. Bei der letzten Krötenwanderung kam sogar der Lehmann-Last
 er dazu\, der hat sie ungebremst alle platt gemacht\, die armen schützenwe
 rten Amphibien…. Wem fehlen die Kröten? Wie steht es mit dem Kröten-Zuchtp
 rogramm der Regierung? Welche Kröten dürfen wir dabei schlucken und was so
 llen wir den verarmten\, hungernden Managern in den Kröteneimer tun?? Frag
 en\, auf die nur die Leipziger Pfeffermühle Antworten hat!http://www.kabar
 ett-leipziger-pfeffermuehle.de Kartenpreise: 18\,-€ / Mitglieder des LuK\,
  Schüler u. Azubi: 15\,-€ Vorverkaufsstellen: Buchhandlung HENZE\, Lange S
 tr. 4 Tel.05571-2806 Bücherwurm\, Lange Str. 9 Tel. 05571-913399 Touristik
 -Information\, historisches Rathaus Tel.05571-92240KSN Filialen Uslarer Or
 tsteile  Auf Initiative von Mitgliedern des Theaters der Jungen Welt wurde
  das Kabarett am 23. April 1954 gegründet\, nachdem es bereits am 22. März
  1954 das namenlose erste Programm zur Aufführung gebracht hatte. Noch im 
 selben Jahr wurde es als 'Politisch-satirisches Kabarett der Stadt Leipzig
 ' zur städtischen Einrichtung gemacht.  Als Aushängeschild der Messestadt 
 Leipzig konnte sich das Kabarett verhältnismäßig viele zweideutige politis
 che Anspielungen erlauben. Allerdings waren die Möglichkeiten eingeschränk
 t durch vorherige Programmabnahme und genehmigungspflichtige Improvisation
 . Wegen der Kleinheit des Raumes konnten nur höchstens 180 Zuschauer einer
  Aufführung beiwohnen\, Fernsehübertragungen fanden nicht statt\, zuweilen
  jedoch Rundfunkübertragungen. Ab Anfang 1989 gastierte die 'Pfeffermühle'
  in zahlreichen bedeutenden Theatern und Kabarettspielstätten der Bundesre
 publik und war bis zum Fall der Mauer mit einem Teil des Ensembles fast un
 unterbrochen auf Tournee in der BRD und in Westberlin. (Quelle: Wikipedia)
DTSTART:20100318T190000Z
DTEND:20100318T190000Z
GEO:+51.67968;+9.640596
LOCATION:Gasthaus Johanning
ORGANIZER:
SEQUENCE:1
SUMMARY:'Krötenwanderung' – wird´s jetzt endlich Frühling?
TRANSP:OPAQUE
URL:https://literatur-kunstkreis-uslar.de/index.php/programm/archiv/13-kroe
 tenwanderung-wird-s-jetzt-endlich-fruehling
END:VEVENT
END:VCALENDAR
