BEGIN:VCALENDAR
VERSION:2.0
PRODID:-//Literatur- und Kunstkreis Uslar e. V.//NONSGML kigkonsult.se iCalcreator 2.41.92//
CALSCALE:GREGORIAN
METHOD:PUBLISH
UID:64323262-6663-4261-a234-643564306163
X-WR-CALNAME:iCagenda
X-WR-CALDESC:Event Management Extension for Joomla!
X-WR-RELCALID:3E26604A-50F4-4449-8B3E-E4F4932D05B5
X-WR-TIMEZONE:Europe/Berlin
BEGIN:VTIMEZONE
TZID:Europe/Berlin
TZUNTIL:20210328T010000Z
BEGIN:STANDARD
TZNAME:CET
DTSTART:20181028T030000
TZOFFSETFROM:+0200
TZOFFSETTO:+0100
RDATE:20191027T030000
RDATE:20201025T030000
END:STANDARD
BEGIN:DAYLIGHT
TZNAME:CEST
DTSTART:20190331T020000
TZOFFSETFROM:+0100
TZOFFSETTO:+0200
RDATE:20200329T020000
END:DAYLIGHT
END:VTIMEZONE
BEGIN:VEVENT
UID:36346137-3534-4266-b235-343635653362
DTSTAMP:20260422T150356Z
CATEGORIES:2019
CLASS:PUBLIC
DESCRIPTION;ALTREP="CID:<FFFF__=0ABBE548DFE235B58f9e8a93d@coffeebean.com>":
 Agenda 007! Der feuchte Traum der Stasi ist gesamtdeutsche Wirklichkeit: k
 ein &ouml\;ffentliches WC ohne Kamera\, kein privater PC ohne Staatstrojan
 er. Die Leipziger Pfefferm&uuml\;hle bringt mit bei&szlig\;endem Spott\, a
 nsteckender Musikalit&auml\;t und einer Prise Investigativit&auml\;t endli
 ch Licht ins geheimdienstliehe Dunkel. Freuen Sie sich auf einen nachhalti
 gen Lachmuskelkater bei gleichzeitigem Erkenntnisgewinn.
DTSTART:20190427T180000Z
DTEND:20190427T180000Z
GEO:+51.67968;+9.640596
LOCATION:Gasthaus Johanning
ORGANIZER:
SEQUENCE:1
SUMMARY:Leipziger Pfeffermühle
TRANSP:OPAQUE
URL:https://literatur-kunstkreis-uslar.de/index.php/programm/archiv/130-lei
 pziger-pfeffermuehle
END:VEVENT
END:VCALENDAR
