BEGIN:VCALENDAR
VERSION:2.0
PRODID:-//Literatur- und Kunstkreis Uslar e. V.//NONSGML kigkonsult.se iCalcreator 2.41.92//
CALSCALE:GREGORIAN
METHOD:PUBLISH
UID:30646635-3233-4562-a630-346165393465
X-WR-CALNAME:iCagenda
X-WR-CALDESC:Event Management Extension for Joomla!
X-WR-RELCALID:3E26604A-50F4-4449-8B3E-E4F4932D05B5
X-WR-TIMEZONE:Europe/Berlin
BEGIN:VTIMEZONE
TZID:Europe/Berlin
TZUNTIL:20210328T010000Z
BEGIN:STANDARD
TZNAME:CET
DTSTART:20181028T030000
TZOFFSETFROM:+0200
TZOFFSETTO:+0100
RDATE:20191027T030000
RDATE:20201025T030000
END:STANDARD
BEGIN:DAYLIGHT
TZNAME:CEST
DTSTART:20190331T020000
TZOFFSETFROM:+0100
TZOFFSETTO:+0200
RDATE:20200329T020000
END:DAYLIGHT
END:VTIMEZONE
BEGIN:VEVENT
UID:31306165-3639-4163-b535-633239353666
DTSTAMP:20260422T150813Z
CATEGORIES:2019
CLASS:PUBLIC
DESCRIPTION;ALTREP="CID:<FFFF__=0ABBE548DFE235B58f9e8a93d@coffeebean.com>":
 Mexico: Zauberei und Licht. W&auml\;hrend eines einj&auml\;hrigen Aufentha
 ltes in Mexiko fing Fotograf Klaus-J&uuml\;rgen Ledermann das Wesen Mexiko
 s ein in Bildern von einem der letzten geheimnisvollen Orte dieser Erde.
DTSTART:20190903T170000Z
DTEND:20191007T170000Z
GEO:+51.659199;+9.63625
LOCATION:Schalterhalle der KSN
ORGANIZER:
SEQUENCE:1
SUMMARY:Fotoausstellung Mexico
TRANSP:OPAQUE
URL:https://literatur-kunstkreis-uslar.de/index.php/programm/archiv/132-fot
 oausstellung-mexico
END:VEVENT
END:VCALENDAR
