BEGIN:VCALENDAR
VERSION:2.0
PRODID:-//Literatur- und Kunstkreis Uslar e. V.//NONSGML kigkonsult.se iCalcreator 2.41.92//
CALSCALE:GREGORIAN
METHOD:PUBLISH
UID:63633062-6265-4535-a438-643434356463
X-WR-CALNAME:iCagenda
X-WR-CALDESC:Event Management Extension for Joomla!
X-WR-RELCALID:3E26604A-50F4-4449-8B3E-E4F4932D05B5
X-WR-TIMEZONE:Europe/Berlin
BEGIN:VTIMEZONE
TZID:Europe/Berlin
TZUNTIL:20210328T010000Z
BEGIN:STANDARD
TZNAME:CET
DTSTART:20181028T030000
TZOFFSETFROM:+0200
TZOFFSETTO:+0100
RDATE:20191027T030000
RDATE:20201025T030000
END:STANDARD
BEGIN:DAYLIGHT
TZNAME:CEST
DTSTART:20190331T020000
TZOFFSETFROM:+0100
TZOFFSETTO:+0200
RDATE:20200329T020000
END:DAYLIGHT
END:VTIMEZONE
BEGIN:VEVENT
UID:39636633-6361-4639-b034-626134613563
DTSTAMP:20260422T145801Z
CATEGORIES:2019
CLASS:PUBLIC
DESCRIPTION;ALTREP="CID:<FFFF__=0ABBE548DFE235B58f9e8a93d@coffeebean.com>":
 Axel Hackes Lesungen sind Unikate\, kein Abend ist wie der andere. Da hock
 t nicht einer hinter einem Tisch mit Wasserglas und Lampe und trägt aus se
 inem neuen Buch vor\, wie das üblich ist\, nein\, Hacke sitzt auf einem St
 uhl\, redet über das Leben\, erzählt von seiner Arbeit und hat alles dabei
 \, was er im Leben geschrieben hat\, na gut\, eine Menge von dem – und das
  ist sehr viel: tausende von Kolumnen aus dem Magazin der Süddeutschen Zei
 tung und dazu einen Stapel von Büchern\, vom Kleinen Erziehungsberater bis
  zur legendären Wumbaba-Trilogie über missverstandene Liedtexte\, von den 
 sehr lustigen Speisekarten Oberst von Huhns bis zu seinem Werk Über den An
 stand in schwierigen Zeiten .... Und natürlich geht es\, sehr ausführlich 
 sogar\, diesmal auch um sein allerneuestes Buch: Wozu wir da sind. Walter 
 Wemuts Handreichungen für ein gelungenes Leben\, der ebenso furiose wie en
 tspannt-heitere Monolog eines hauptberuflichen Nachruf-Autors über die gro
 ßen Fragen unserer Existenz. So entsteht jeden Abend – wenn es gut geht (u
 nd meistens geht es ja doch gut) – ein neues kleines Lese-Kunstwerk\, in d
 em die hergebrachten Trennungen von ernst und unterhaltsam nichts bedeuten
 \, weil in so einem Abend alles drin ist\, das Heitere\, das Philosophisch
 e und das brüllend Lustige. Man weiß nur vorher nie so genau: was?
DTSTART:20190919T180000Z
DTEND:20190919T180000Z
GEO:+51.667221;+9.63117
LOCATION:Forum Gymnasium Uslar
ORGANIZER:
SEQUENCE:1
SUMMARY:Axel Hacke
TRANSP:OPAQUE
URL:https://literatur-kunstkreis-uslar.de/index.php/programm/archiv/133-axe
 l-hacke
END:VEVENT
END:VCALENDAR
