BEGIN:VCALENDAR
VERSION:2.0
PRODID:-//Literatur- und Kunstkreis Uslar e. V.//NONSGML kigkonsult.se iCalcreator 2.41.92//
CALSCALE:GREGORIAN
METHOD:PUBLISH
UID:39343961-3864-4466-b165-633933656263
X-WR-CALNAME:iCagenda
X-WR-CALDESC:Event Management Extension for Joomla!
X-WR-RELCALID:3E26604A-50F4-4449-8B3E-E4F4932D05B5
X-WR-TIMEZONE:Europe/Berlin
BEGIN:VTIMEZONE
TZID:Europe/Berlin
TZUNTIL:20210328T010000Z
BEGIN:STANDARD
TZNAME:CET
DTSTART:20181028T030000
TZOFFSETFROM:+0200
TZOFFSETTO:+0100
RDATE:20191027T030000
RDATE:20201025T030000
END:STANDARD
BEGIN:DAYLIGHT
TZNAME:CEST
DTSTART:20190331T020000
TZOFFSETFROM:+0100
TZOFFSETTO:+0200
RDATE:20200329T020000
END:DAYLIGHT
END:VTIMEZONE
BEGIN:VEVENT
UID:65373063-3861-4361-b835-386465303664
DTSTAMP:20260422T150402Z
CATEGORIES:2019
CLASS:PUBLIC
DESCRIPTION;ALTREP="CID:<FFFF__=0ABBE548DFE235B58f9e8a93d@coffeebean.com>":
 Mitglieder des Literatur- und Kunstkreises lesen Texte rund ums Bier - da 
 bleibt kein Auge (und auch keine Kehle?) trocken. Erg&auml\;nzt wird diese
  kulturelle Reise ins Reich des Bieres von stimmungsvoller Musik.
DTSTART:20190921T190000Z
DTEND:20190921T190000Z
GEO:+51.658024;+9.633957
LOCATION:Museumsstübchen
ORGANIZER:
SEQUENCE:1
SUMMARY:Nacht der Kultur: Eigenbräu
TRANSP:OPAQUE
URL:https://literatur-kunstkreis-uslar.de/index.php/programm/archiv/134-nac
 ht-der-kultur-eigenbraeu
END:VEVENT
END:VCALENDAR
