BEGIN:VCALENDAR
VERSION:2.0
PRODID:-//Literatur- und Kunstkreis Uslar e. V.//NONSGML kigkonsult.se iCalcreator 2.41.92//
CALSCALE:GREGORIAN
METHOD:PUBLISH
UID:63373234-6363-4130-b764-333639353139
X-WR-CALNAME:iCagenda
X-WR-CALDESC:Event Management Extension for Joomla!
X-WR-RELCALID:3E26604A-50F4-4449-8B3E-E4F4932D05B5
X-WR-TIMEZONE:Europe/Berlin
BEGIN:VTIMEZONE
TZID:Europe/Berlin
TZUNTIL:20211031T010000Z
BEGIN:STANDARD
TZNAME:CET
DTSTART:20191027T030000
TZOFFSETFROM:+0200
TZOFFSETTO:+0100
RDATE:20201025T030000
END:STANDARD
BEGIN:DAYLIGHT
TZNAME:CEST
DTSTART:20190331T020000
TZOFFSETFROM:+0100
TZOFFSETTO:+0200
RDATE:20200329T020000
RDATE:20210328T020000
END:DAYLIGHT
END:VTIMEZONE
BEGIN:VEVENT
UID:39346437-3462-4630-b337-343061383632
DTSTAMP:20260422T150812Z
CATEGORIES:2019
CLASS:PUBLIC
DESCRIPTION;ALTREP="CID:<FFFF__=0ABBE548DFE235B58f9e8a93d@coffeebean.com>":
 Kennen Sie George Gershwin? Nat&uuml\;rlich kennen Sie George Gershwin! Da
 s L&uuml\;becker Musiktrio 'Swingin' Wards' bringt seine Geschichte in ein
 er inszenierten Musik-Biographie mit Jazzgef&uuml\;hl und schauspielerisch
 em Talent auf die B&uuml\;hne im Autohaus Siebrecht. Erleben Sie mitrei&sz
 lig\;enden Swing und eine eindrucksvolle Lebensgeschichte in dem besondere
 n Ambiente des gr&ouml\;&szlig\;ten Uslarer Autohauses.
DTSTART:20191116T180000Z
DTEND:20191116T180000Z
GEO:+51.6586;+9.63001
LOCATION:Autohaus Siebrecht
ORGANIZER:
SEQUENCE:1
SUMMARY:Jazz is my voice - Die Gershwin Story
TRANSP:OPAQUE
URL:https://literatur-kunstkreis-uslar.de/index.php/programm/archiv/136-jaz
 z-is-my-voice-die-gershwin-story
END:VEVENT
END:VCALENDAR
