BEGIN:VCALENDAR
VERSION:2.0
PRODID:-//Literatur- und Kunstkreis Uslar e. V.//NONSGML kigkonsult.se iCalcreator 2.41.92//
CALSCALE:GREGORIAN
METHOD:PUBLISH
UID:61643632-3738-4362-b661-643166346432
X-WR-CALNAME:iCagenda
X-WR-CALDESC:Event Management Extension for Joomla!
X-WR-RELCALID:3E26604A-50F4-4449-8B3E-E4F4932D05B5
X-WR-TIMEZONE:Europe/Berlin
BEGIN:VTIMEZONE
TZID:Europe/Berlin
TZUNTIL:20210328T010000Z
BEGIN:STANDARD
TZNAME:CET
DTSTART:20181028T030000
TZOFFSETFROM:+0200
TZOFFSETTO:+0100
RDATE:20191027T030000
RDATE:20201025T030000
END:STANDARD
BEGIN:DAYLIGHT
TZNAME:CEST
DTSTART:20190331T020000
TZOFFSETFROM:+0100
TZOFFSETTO:+0200
RDATE:20200329T020000
END:DAYLIGHT
END:VTIMEZONE
BEGIN:VEVENT
UID:39623364-3932-4736-b961-633132636261
DTSTAMP:20260422T150715Z
CATEGORIES:2019
CLASS:PUBLIC
DESCRIPTION;ALTREP="CID:<FFFF__=0ABBE548DFE235B58f9e8a93d@coffeebean.com>":
 Seit 1979 gehören sie zur Jazz-Szene und spielen in Clubs und auf Festival
 s. Alt\, schwarz\, heiß und fröhlich ist ihre Musik\, individuell geprägt\
 , aber orientiert an den alten Meistern der 20er und 30er Jahre aus New Or
 leans und Chicago (Louis Armstrong's Hot Five and Hot Seven\; Johnny Dodds
 \; Jelly Roll Morton\, Clarence Williams\, King Oliver\, Mills Brothers...
 ).\nGespielt haben sie auf den Jazzfestivals z. B. in Dresden\, Braunschwe
 ig\, Hannover und (natürlich jedes Jahr) in Göttingen\, aber auch in Clubs
  in Düsseldorf\, Köln oder Frankfurt. Sie waren zu Auftritten beim Festiva
 l in Marciac und Pau (Frankreich)\, in Bydgosz und Torun (Polen)\, in Chel
 tenham (GB).\nFreuen Sie sich auf eine facettenreiche\, farbige und fröhli
 che musikalische Unterhaltung\, die ihre Fußspitzen zum Wippen bringt und 
 sie zum Tanzen von Charleston\, Shimmy oder Jitterbug animiert!\nQuelle: h
 ttp://www.new-orleans-syncopators.de/Aboutus/Frameset.html
DTSTART:20190816T180000Z
DTEND:20190816T180000Z
GEO:+51.67968;+9.640596
LOCATION:Gasthaus Johanning
ORGANIZER:
SEQUENCE:1
SUMMARY:Jazz mit den New Orleans Syncopators + Tanzshow
TRANSP:OPAQUE
URL:https://literatur-kunstkreis-uslar.de/index.php/programm/archiv/138-jaz
 z-mit-den-new-orleans-syncopators-tanzshow
END:VEVENT
END:VCALENDAR
