BEGIN:VCALENDAR
VERSION:2.0
PRODID:-//Literatur- und Kunstkreis Uslar e. V.//NONSGML kigkonsult.se iCalcreator 2.41.92//
CALSCALE:GREGORIAN
METHOD:PUBLISH
UID:66646561-6431-4639-b139-386430353631
X-WR-CALNAME:iCagenda
X-WR-CALDESC:Event Management Extension for Joomla!
X-WR-RELCALID:3E26604A-50F4-4449-8B3E-E4F4932D05B5
X-WR-TIMEZONE:Europe/Berlin
BEGIN:VTIMEZONE
TZID:Europe/Berlin
TZUNTIL:20211031T010000Z
BEGIN:STANDARD
TZNAME:CET
DTSTART:20181028T030000
TZOFFSETFROM:+0200
TZOFFSETTO:+0100
RDATE:20191027T030000
RDATE:20201025T030000
END:STANDARD
BEGIN:DAYLIGHT
TZNAME:CEST
DTSTART:20190331T020000
TZOFFSETFROM:+0100
TZOFFSETTO:+0200
RDATE:20200329T020000
RDATE:20210328T020000
END:DAYLIGHT
END:VTIMEZONE
BEGIN:VEVENT
UID:36656436-3531-4639-b439-363331626430
DTSTAMP:20260422T150649Z
CATEGORIES:2019
CLASS:PUBLIC
DESCRIPTION;ALTREP="CID:<FFFF__=0ABBE548DFE235B58f9e8a93d@coffeebean.com>":
 Dass Publikumsliebling Peter Stamm endlich den renommierten Schweizer Buch
 preis gewann\, ist erst ein Jahr her. Da war der Autor gerade mit seinem k
 lugen Liebesroman Die sanfte Gleichgültigkeit der Welt im Gespräch. Nun fo
 lgt Marcia aus Vermont (S. Fischer 2019). Stamm stellt darin die ganz groß
 en Fragen: die nach dem erfüllten Leben und der wahren Liebe. Seine träume
 nden\, hoffenden und liebenden Figuren blicken zurück und staunen darüber\
 , wie sich Plane verschieben\, sich Lebenswege bahnen und wie die Sehnsuch
 t nach Glück nie versiegt. Ein heilsamer Anstoß zum stillen Grubeln\, perf
 ekt für die anstehende dunkle Jahreszeit.\nGefördert von der Schweizer Kul
 turstiftung prohelvetia. In Kooperation mit der Stadtbücherei Uslar und de
 m Literatur- und Kunstkreis Uslar e. V. Foto: Anita Affentranger\n\nHerbst
  in der Region
DTSTART:20191021T170000Z
DTEND:20191021T170000Z
GEO:00;0
LOCATION:Rathaushalle Stadt Uslar
ORGANIZER:
SEQUENCE:1
SUMMARY:Peter Stamm - Marcia aus Vermont
TRANSP:OPAQUE
URL:https://literatur-kunstkreis-uslar.de/index.php/programm/archiv/139-pet
 er-stamm-marcia-aus-vermont
END:VEVENT
END:VCALENDAR
