BEGIN:VCALENDAR
VERSION:2.0
PRODID:-//Literatur- und Kunstkreis Uslar e. V.//NONSGML kigkonsult.se iCalcreator 2.41.92//
CALSCALE:GREGORIAN
METHOD:PUBLISH
UID:63373262-3737-4639-a633-636537326435
X-WR-CALNAME:iCagenda
X-WR-CALDESC:Event Management Extension for Joomla!
X-WR-RELCALID:3E26604A-50F4-4449-8B3E-E4F4932D05B5
X-WR-TIMEZONE:Europe/Berlin
BEGIN:VTIMEZONE
TZID:Europe/Berlin
TZUNTIL:20120325T010000Z
BEGIN:STANDARD
TZNAME:CET
DTSTART:20091025T030000
TZOFFSETFROM:+0200
TZOFFSETTO:+0100
RDATE:20101031T030000
RDATE:20111030T030000
END:STANDARD
BEGIN:DAYLIGHT
TZNAME:CEST
DTSTART:20100328T020000
TZOFFSETFROM:+0100
TZOFFSETTO:+0200
RDATE:20110327T020000
END:DAYLIGHT
END:VTIMEZONE
BEGIN:VEVENT
UID:37306635-6233-4131-b262-373030383237
DTSTAMP:20260422T150325Z
CATEGORIES:2010
CLASS:PUBLIC
DESCRIPTION;ALTREP="CID:<FFFF__=0ABBE548DFE235B58f9e8a93d@coffeebean.com>":
 Eine poetische Reise im Luftstrom des Akkordeons\n\nUlrike Dangendorf\n\n'
 So habe ich Akkordeon noch nie gehört!' - wer Ulrike Dangendorfs Musik zum
  ersten Mal begegnet ist überrascht von der außergewöhnlichen Sensibilität
  und Klangvielfalt\, mit der die Künstlerin (Foto links) diesen 'schweren 
 Kasten voller Luft' zum Leben erweckt. Tönende Bilder\, Szenen\, Erlebniss
 e\, Ideen\, Stimmungen wie sie unterschiedlicher kaum sein könnten nehmen 
 den Zuhörer bereits vom ersten Moment an gefangen.  Dabei jongliert die Ab
 solventin zweier Musikstudiengänge virtuos zwischen Zeiten und Welten. Unb
 efangen greift sie traditionelle Formen auf wie etwa die französischen Val
 se Musette\, lehnt sich mit einem fröhlichen Augenzwinkern an das Genre Ta
 ngo an\, dann wieder experimentiert sie mit frei assoziierten Klangstruktu
 ren und narrativen Charakterstücken. Man hat das Gefühl\, als lausche man 
 in einem Theater gespannt nacheinander an den verschiedensten Türen\, wobe
 i hinter jeder Tür gerade ein anderes Stück gespielt wird: Hier zeugt wild
 e Rhythmik vom Adrenalinausstoß auf dem Beifahrersitz eines Moskauer Taxis
 \, dort tanzt die tadschikische Wollziege unbändig durchs Gebirge der Tona
 rten\, wieder woanders melden sich mit einem Augenzwinkern ätherisch wie a
 uch ruppig verschroben kapriziöse Hausgeister zu Wort. Tänzerisch inspirie
 rte Melodien wechseln mit mystischen\, sakral anmutenden Klängen\, lyrisch
 e Passagen mit rasanten Rhythmen vom Balkan\, rollende Basskaskaden treffe
 n auf minimalistische Klangcollagen\, die wie zeitlos dahin treiben.  Beim
  Hören verschmelzen Musikerin\, Komponistin und Instrument zu einem einzig
 en\, rauschhaften Klangerlebnis: Musik die verzaubert\, entführt\, in Trau
 mwelten eintaucht\, meisterhaft gespielt und ausgesprochen kurzweilig.  Ei
 ntrittspreis:12\,-€ (inklusive 3\,- € Getränkebonus)Mitglieder des LuK und
  ermäßigte Karten 8\,-€ (inklusive 3\,- € Getränkebonus)
DTSTART:20100430T180000Z
DTEND:20100430T180000Z
GEO:+51.659588;+9.638566
LOCATION:Café ARTE Uslar
ORGANIZER:
SEQUENCE:1
SUMMARY:'Aus tönerner Luft'
TRANSP:OPAQUE
URL:https://literatur-kunstkreis-uslar.de/index.php/programm/archiv/14-aus-
 toenerner-luft
END:VEVENT
END:VCALENDAR
