BEGIN:VCALENDAR
VERSION:2.0
PRODID:-//Literatur- und Kunstkreis Uslar e. V.//NONSGML kigkonsult.se iCalcreator 2.41.92//
CALSCALE:GREGORIAN
METHOD:PUBLISH
UID:32323936-6536-4263-b331-666330323538
X-WR-CALNAME:iCagenda
X-WR-CALDESC:Event Management Extension for Joomla!
X-WR-RELCALID:3E26604A-50F4-4449-8B3E-E4F4932D05B5
X-WR-TIMEZONE:Europe/Berlin
BEGIN:VTIMEZONE
TZID:Europe/Berlin
TZUNTIL:20211031T010000Z
BEGIN:STANDARD
TZNAME:CET
DTSTART:20181028T030000
TZOFFSETFROM:+0200
TZOFFSETTO:+0100
RDATE:20191027T030000
RDATE:20201025T030000
END:STANDARD
BEGIN:DAYLIGHT
TZNAME:CEST
DTSTART:20190331T020000
TZOFFSETFROM:+0100
TZOFFSETTO:+0200
RDATE:20200329T020000
RDATE:20210328T020000
END:DAYLIGHT
END:VTIMEZONE
BEGIN:VEVENT
UID:38326533-3366-4834-b935-613837333537
DTSTAMP:20260422T150843Z
CATEGORIES:2019
CLASS:PUBLIC
DESCRIPTION:
DTSTART:20191020T160000Z
DTEND:20191020T160000Z
GEO:+51.661701;+9.638515
LOCATION:Friedenskirche Uslar
ORGANIZER:
SEQUENCE:1
SUMMARY:TEA FOR TWO - Musikalische und satirische Spezialitäten
TRANSP:OPAQUE
URL:https://literatur-kunstkreis-uslar.de/index.php/programm/archiv/140-tea
 -for-two-musikalische-und-satirische-spezialitaeten
END:VEVENT
END:VCALENDAR
