BEGIN:VCALENDAR
VERSION:2.0
PRODID:-//Literatur- und Kunstkreis Uslar e. V.//NONSGML kigkonsult.se iCalcreator 2.41.92//
CALSCALE:GREGORIAN
METHOD:PUBLISH
UID:30653666-3032-4665-a461-363961613866
X-WR-CALNAME:iCagenda
X-WR-CALDESC:Event Management Extension for Joomla!
X-WR-RELCALID:3E26604A-50F4-4449-8B3E-E4F4932D05B5
X-WR-TIMEZONE:Europe/Berlin
BEGIN:VTIMEZONE
TZID:Europe/Berlin
TZUNTIL:20211031T010000Z
BEGIN:STANDARD
TZNAME:CET
DTSTART:20191027T030000
TZOFFSETFROM:+0200
TZOFFSETTO:+0100
RDATE:20201025T030000
END:STANDARD
BEGIN:DAYLIGHT
TZNAME:CEST
DTSTART:20190331T020000
TZOFFSETFROM:+0100
TZOFFSETTO:+0200
RDATE:20200329T020000
RDATE:20210328T020000
END:DAYLIGHT
END:VTIMEZONE
BEGIN:VEVENT
UID:34393439-3434-4233-b036-393565383839
DTSTAMP:20260422T150007Z
CATEGORIES:2020
CLASS:PUBLIC
DESCRIPTION;ALTREP="CID:<FFFF__=0ABBE548DFE235B58f9e8a93d@coffeebean.com>":
 Das Kulturjahr in Uslar beginnt festlich. Den Reigen eröffnet das Göttinge
 r Symphonieorchester unter der Leitung von Nicholas Milton. Der Cellist Va
 lentino Worlitzsch tritt als Solist auf. Gegeben werden bekannte\, schwung
 volle und begeisternde Melodien von Smetana\, Dvorak\, Strauss und anderen
  Komponisten.
DTSTART:20200102T190000Z
DTEND:20200102T190000Z
GEO:+51.667221;+9.63117
LOCATION:Forum Gymnasium Uslar
ORGANIZER:
SEQUENCE:1
SUMMARY:Neujahrskonzert des GSO
TRANSP:OPAQUE
URL:https://literatur-kunstkreis-uslar.de/index.php/programm/archiv/141-neu
 jahrskonzert-des-gso
END:VEVENT
END:VCALENDAR
