BEGIN:VCALENDAR
VERSION:2.0
PRODID:-//Literatur- und Kunstkreis Uslar e. V.//NONSGML kigkonsult.se iCalcreator 2.41.92//
CALSCALE:GREGORIAN
METHOD:PUBLISH
UID:65326561-6565-4833-b833-303939653366
X-WR-CALNAME:iCagenda
X-WR-CALDESC:Event Management Extension for Joomla!
X-WR-RELCALID:3E26604A-50F4-4449-8B3E-E4F4932D05B5
X-WR-TIMEZONE:Europe/Berlin
BEGIN:VTIMEZONE
TZID:Europe/Berlin
TZUNTIL:20211031T010000Z
BEGIN:STANDARD
TZNAME:CET
DTSTART:20191027T030000
TZOFFSETFROM:+0200
TZOFFSETTO:+0100
RDATE:20201025T030000
END:STANDARD
BEGIN:DAYLIGHT
TZNAME:CEST
DTSTART:20190331T020000
TZOFFSETFROM:+0100
TZOFFSETTO:+0200
RDATE:20200329T020000
RDATE:20210328T020000
END:DAYLIGHT
END:VTIMEZONE
BEGIN:VEVENT
UID:39346435-6262-4836-b166-643365366230
DTSTAMP:20260422T150152Z
CATEGORIES:2020
CLASS:PUBLIC
DESCRIPTION;ALTREP="CID:<FFFF__=0ABBE548DFE235B58f9e8a93d@coffeebean.com>":
 Cara webt das Leben mit all seinen Höhen und Tiefen in die unverkenn- bare
 n Klänge der keltischen Folk- musik. Die hochmusikalischen Weltenbummler n
 ehmen ihr Publikum mit auf eine lebendige Reise durch ihre Songs und Band-
  geschichte. Traditionelles trifft Modernes\, von mitreißend frech bis mel
 ancholisch verträumt – das Konzentrat eines Festivals in einer einzigen Ba
 nd.
DTSTART:20200223T183000Z
DTEND:20200223T183000Z
GEO:+51.67968;+9.640596
LOCATION:Gasthaus Johanning
ORGANIZER:
SEQUENCE:1
SUMMARY:Cara
TRANSP:OPAQUE
URL:https://literatur-kunstkreis-uslar.de/index.php/programm/archiv/143-car
 a
END:VEVENT
END:VCALENDAR
