BEGIN:VCALENDAR
VERSION:2.0
PRODID:-//Literatur- und Kunstkreis Uslar e. V.//NONSGML kigkonsult.se iCalcreator 2.41.92//
CALSCALE:GREGORIAN
METHOD:PUBLISH
UID:39366165-3539-4334-b337-663332366137
X-WR-CALNAME:iCagenda
X-WR-CALDESC:Event Management Extension for Joomla!
X-WR-RELCALID:3E26604A-50F4-4449-8B3E-E4F4932D05B5
X-WR-TIMEZONE:Europe/Berlin
BEGIN:VTIMEZONE
TZID:Europe/Berlin
TZUNTIL:20211031T010000Z
BEGIN:STANDARD
TZNAME:CET
DTSTART:20191027T030000
TZOFFSETFROM:+0200
TZOFFSETTO:+0100
RDATE:20201025T030000
END:STANDARD
BEGIN:DAYLIGHT
TZNAME:CEST
DTSTART:20190331T020000
TZOFFSETFROM:+0100
TZOFFSETTO:+0200
RDATE:20200329T020000
RDATE:20210328T020000
END:DAYLIGHT
END:VTIMEZONE
BEGIN:VEVENT
UID:38373833-6637-4335-b230-356532373933
DTSTAMP:20260422T150520Z
CATEGORIES:2020
CLASS:PUBLIC
DESCRIPTION;ALTREP="CID:<FFFF__=0ABBE548DFE235B58f9e8a93d@coffeebean.com>":
 Deutsche Sprache - schöne Sprache! Das will die großartige A-Cappella-Popb
 and medlz an diesem Abend unter Beweis stellen und widmet ihr neues Progra
 mm „Heimspiel“ ausschließlich der deutschen Sprache. So lassen die medlz a
 lte Schlager der Wirtschaftswunderzeit genauso aufleben wie Schillers „Ode
  an die Freude“ oder Hits von den „Prinzen“\, SEEED oder Rammstein. Berühr
 end\, unterhaltsam und kurzweilig. medlz eben.
DTSTART:20200306T183000Z
DTEND:20200306T183000Z
GEO:+51.667221;+9.63117
LOCATION:Forum Gymnasium Uslar
ORGANIZER:
SEQUENCE:1
SUMMARY:Weltfrauentag: medlz
TRANSP:OPAQUE
URL:https://literatur-kunstkreis-uslar.de/index.php/programm/archiv/144-wel
 tfrauentag-medlz
END:VEVENT
END:VCALENDAR
