BEGIN:VCALENDAR
VERSION:2.0
PRODID:-//Literatur- und Kunstkreis Uslar e. V.//NONSGML kigkonsult.se iCalcreator 2.41.92//
CALSCALE:GREGORIAN
METHOD:PUBLISH
UID:35396431-6265-4464-b538-653365613263
X-WR-CALNAME:iCagenda
X-WR-CALDESC:Event Management Extension for Joomla!
X-WR-RELCALID:3E26604A-50F4-4449-8B3E-E4F4932D05B5
X-WR-TIMEZONE:Europe/Berlin
BEGIN:VTIMEZONE
TZID:Europe/Berlin
TZUNTIL:20220327T010000Z
BEGIN:STANDARD
TZNAME:CET
DTSTART:20191027T030000
TZOFFSETFROM:+0200
TZOFFSETTO:+0100
RDATE:20201025T030000
RDATE:20211031T030000
END:STANDARD
BEGIN:DAYLIGHT
TZNAME:CEST
DTSTART:20200329T020000
TZOFFSETFROM:+0100
TZOFFSETTO:+0200
RDATE:20210328T020000
END:DAYLIGHT
END:VTIMEZONE
BEGIN:VEVENT
UID:38346537-3166-4239-a332-346434373665
DTSTAMP:20260422T150812Z
CATEGORIES:2020
CLASS:PUBLIC
DESCRIPTION;ALTREP="CID:<FFFF__=0ABBE548DFE235B58f9e8a93d@coffeebean.com>":
 Man muss das auch mal negativ sehen! Eine temperamentvolle Performance von
  Sketchen\, Chansons\, absurder Poesie und heiter-ironischen Gedichten. Da
  geht es um alternative Berufsplanung für Lehrerinnen\, unheilvolle Affäre
 n mit Kartoffelchips\, Männer im Baumarkt\, Frauen beim Typberater und die
  unterschiedlichen Methoden\, die Welt zu retten. Und auch das positivste 
 aller positiven Gefühle bleibt nicht verschont: die Liebe. HINWEIS: vormit
 tags Lesung in der Grundschule Uslar in Kooperation mit der Stadtbücherei 
 Uslar.
DTSTART:20200508T180000Z
DTEND:20200508T180000Z
GEO:+51.671165;+9.600891
LOCATION:Kapelle Sohlingen
ORGANIZER:
SEQUENCE:1
SUMMARY:Literaturtankstelle: Andrea Schomburg
TRANSP:OPAQUE
URL:https://literatur-kunstkreis-uslar.de/index.php/programm/archiv/146-lit
 eraturtankstelle-andrea-schomburg
END:VEVENT
END:VCALENDAR
