BEGIN:VCALENDAR
VERSION:2.0
PRODID:-//Literatur- und Kunstkreis Uslar e. V.//NONSGML kigkonsult.se iCalcreator 2.41.92//
CALSCALE:GREGORIAN
METHOD:PUBLISH
UID:61343164-6561-4236-b266-373865633033
X-WR-CALNAME:iCagenda
X-WR-CALDESC:Event Management Extension for Joomla!
X-WR-RELCALID:3E26604A-50F4-4449-8B3E-E4F4932D05B5
X-WR-TIMEZONE:Europe/Berlin
BEGIN:VTIMEZONE
TZID:Europe/Berlin
TZUNTIL:20240331T010000Z
BEGIN:STANDARD
TZNAME:CET
DTSTART:20211031T030000
TZOFFSETFROM:+0200
TZOFFSETTO:+0100
RDATE:20221030T030000
RDATE:20231029T030000
END:STANDARD
BEGIN:DAYLIGHT
TZNAME:CEST
DTSTART:20220327T020000
TZOFFSETFROM:+0100
TZOFFSETTO:+0200
RDATE:20230326T020000
END:DAYLIGHT
END:VTIMEZONE
BEGIN:VEVENT
UID:33356336-3335-4133-b530-343838383963
DTSTAMP:20260422T133713Z
CATEGORIES:2022
CLASS:PUBLIC
DESCRIPTION;ALTREP="CID:<FFFF__=0ABBE548DFE235B58f9e8a93d@coffeebean.com>":
 Wichtiger Hinweis: Diese Veranstaltung wurde von Sonntag\, 21.06.2020 auf 
 Sonntag\, 19.06.2022 verschoben.\nDie Spätzünder sind wieder un- terwegs m
 it ihrem neuen Stück 'Eine Frau wird erst schön in der Küche'. Mit dabei: 
 11 Frauen\, ein Kochtopf\, eine Kaffeekanne samt Bohne und ein ängstlicher
  Kuchen. So eine Hausfrau\, die hat’s schwer. Zwischen Herd\, Ehemann und 
 Familie weiß die passionierte Hausfrau vor allem eines: Die meisten Un- fä
 lle passieren im Haushalt! Das Theater der Erfahrungen war schon mehrfach 
 sehr erfolgreich in Uslar zu Gast.\nWeiterer Termin: Samstag\, 18.06.2022 
 im Muthaussaal Hardegsen
DTSTART:20220619T180000Z
DTEND:20220619T180000Z
GEO:+51.67968;+9.640596
LOCATION:Gasthaus Johanning
ORGANIZER:
SEQUENCE:1
SUMMARY:Theater der Erfahrungen
TRANSP:OPAQUE
URL:https://literatur-kunstkreis-uslar.de/index.php/programm/archiv/147-the
 ater-der-erfahrungen
END:VEVENT
END:VCALENDAR
