BEGIN:VCALENDAR
VERSION:2.0
PRODID:-//Literatur- und Kunstkreis Uslar e. V.//NONSGML kigkonsult.se iCalcreator 2.41.92//
CALSCALE:GREGORIAN
METHOD:PUBLISH
UID:32383731-3661-4836-b836-666333636665
X-WR-CALNAME:iCagenda
X-WR-CALDESC:Event Management Extension for Joomla!
X-WR-RELCALID:3E26604A-50F4-4449-8B3E-E4F4932D05B5
X-WR-TIMEZONE:Europe/Berlin
BEGIN:VTIMEZONE
TZID:Europe/Berlin
TZUNTIL:20221030T010000Z
BEGIN:STANDARD
TZNAME:CET
DTSTART:20191027T030000
TZOFFSETFROM:+0200
TZOFFSETTO:+0100
RDATE:20201025T030000
RDATE:20211031T030000
END:STANDARD
BEGIN:DAYLIGHT
TZNAME:CEST
DTSTART:20200329T020000
TZOFFSETFROM:+0100
TZOFFSETTO:+0200
RDATE:20210328T020000
RDATE:20220327T020000
END:DAYLIGHT
END:VTIMEZONE
BEGIN:VEVENT
UID:61326632-3737-4339-b765-376265643136
DTSTAMP:20260422T150817Z
CATEGORIES:2020
CLASS:PUBLIC
DESCRIPTION;ALTREP="CID:<FFFF__=0ABBE548DFE235B58f9e8a93d@coffeebean.com>":
 Der Uslarer Ulli Bögershausen ist einer der meistgehörten Gitarristen der 
 Welt. Auch im asiatischen Raum ist er bekannt. Gemeinsam mit Agustin Amigo
  spielt er Melodien von lyrischer Einfühlungskraft\, die den Zuhörer in de
 n Bann ziehen und in tausend Welten entführen.
DTSTART:20200926T190000Z
DTEND:20200926T190000Z
GEO:+51.658421;+9.633213
LOCATION:St. Johanniskirche Uslar
ORGANIZER:
SEQUENCE:1
SUMMARY:Nacht der Kultur: Bögershausen & Amigo
TRANSP:OPAQUE
URL:https://literatur-kunstkreis-uslar.de/index.php/programm/archiv/149-nac
 ht-der-kultur-boegershausen-amigo
END:VEVENT
END:VCALENDAR
