BEGIN:VCALENDAR
VERSION:2.0
PRODID:-//Literatur- und Kunstkreis Uslar e. V.//NONSGML kigkonsult.se iCalcreator 2.41.92//
CALSCALE:GREGORIAN
METHOD:PUBLISH
UID:37376131-3664-4538-b036-316136613636
X-WR-CALNAME:iCagenda
X-WR-CALDESC:Event Management Extension for Joomla!
X-WR-RELCALID:3E26604A-50F4-4449-8B3E-E4F4932D05B5
X-WR-TIMEZONE:Europe/Berlin
BEGIN:VTIMEZONE
TZID:Europe/Berlin
TZUNTIL:20120325T010000Z
BEGIN:STANDARD
TZNAME:CET
DTSTART:20091025T030000
TZOFFSETFROM:+0200
TZOFFSETTO:+0100
RDATE:20101031T030000
RDATE:20111030T030000
END:STANDARD
BEGIN:DAYLIGHT
TZNAME:CEST
DTSTART:20100328T020000
TZOFFSETFROM:+0100
TZOFFSETTO:+0200
RDATE:20110327T020000
END:DAYLIGHT
END:VTIMEZONE
BEGIN:VEVENT
UID:64363231-3962-4565-b165-613331396433
DTSTAMP:20260422T150638Z
CATEGORIES:2010
CLASS:PUBLIC
DESCRIPTION;ALTREP="CID:<FFFF__=0ABBE548DFE235B58f9e8a93d@coffeebean.com>":
 Swingender Dixieland Jazz mit Naldo´s Jazz Familiy aus Köln\nMit ihrem unv
 erwechselbaren Sound und ihrer enormen Vielseitigkeit hat sich die Band in
 zwischen einen Stammplatz in der Szene des traditionellen Jazz in Deutschl
 and und vielen anderen Ländern erobert. Sie mischt auf einzigartige Weise 
 Stilmittel des New-Orleans- und Dixieland-Jazz mit neuen ungewöhnlichen El
 ementen. Und weil das Publikum die Abwechslung liebt\, hat die 'Jazz-Famil
 y' auch in ein paar andere Kisten gegriffen und präsentiert mehrstimmigen 
 Chorgesang genauso locker wie Boogie-Woogie-Sound\, Gospel-Songs\, karibis
 che Steel-Drums-Klänge und reichlich musikalischen Nonsense. Sie werden üb
 errascht sein\, dass man auch Kaffeekannen\, Luftpumpen und anderen ungewö
 hnlichen Dingen jazzige Töne entlocken kann. Und das alles wird präsentier
 t mit Augenzwinkern und viel Humor.   Kartenpreise: 20\,-€ / ermäßigte und
  Karten für Mitglieder des LuK 15\, -€. (Reservierte Karten sind bis 30 Mi
 n. vor Beginn an der Abendkasse abzuholen) Vorverkaufsstellen:\n\nBuchhand
 lung HENZE\, Lange Str. 4 Tel.05571-2806\nBücherwurm\, Lange Str. 9 Tel. 0
 5571-913399\nTouristik-Information\, historisches Rathaus Tel.05571-92240
 \nKSN Filialen Uslarer Ortsteile Schönhagen und Volpriehausen\n\n\n\n\nVer
 anstaltung:\nSwingender Dixieland Jazz mit Naldo´s Jazz Familiy aus Köln\n
 \n\nArt:\nMusik\n\n\nDatum:\n11.06.2010\n\n\nZeit:\n19.30 Uhr\n\n\nOrt:\nG
 asthaus Johanning Uslar-Eschershausen\n\n\nStraße:\nMeinte 8\n\n\nVeransta
 lter:\nLiteratur- u. Kunstkreis Uslar e.V.\n\n\n\n\nWeitere Informationen 
 zu Naldo´s Jazz Familiy\n\nNaldo`s Jazz Family\n\nDie Band wurde 1989 von 
 Naldo gegründet. Mit ihrem unverwechselbaren Sound und ihrer enormen Viels
 eitigkeit hat sich die Band inzwischen einen Stammplatz in der Szene des t
 raditionellen Jazz in Deutschland und vielen anderen Ländern erobert. Sie 
 mischt auf einzigartige Weise Stilmittel des New-Orleans- und Dixieland-Ja
 zz mit neuen ungewöhnlichen Elementen. Dass dabei bisher auch 7 CD’s und z
 wei MC’s entstanden sind\, soll nicht verheimlicht werden\, unter anderem 
 auch eine heißbegehrte Weihnachts-Jazz-CD. Und weil sich ja herumgesproche
 n hat\, dass das Publikum die Abwechslung liebt \, hat die 'Jazz-Family' a
 uch in ein paar andere Kisten gegriffen und präsentiert mehrstimmigen Chor
 gesang genauso locker wie Boogie-Woogie-Sound\, Gospel-Songs\, karibische 
 Steel-Drums-Klänge und reichlich musikalischen Nonsense. Sie werden überra
 scht sein\, dass man auch Kaffekannen\, Luftpumpen und anderen ungewöhnlic
 hen Dingen jazzige Töne entlocken kann. Und das alles wird präsentiert mit
  Augenzwinkern und viel Humor.
DTSTART:20100611T173000Z
DTEND:20100611T173000Z
GEO:+51.67968;+9.640596
LOCATION:Gasthaus Johanning
ORGANIZER:
SEQUENCE:1
SUMMARY:Naldo´s Jazz Family
TRANSP:OPAQUE
URL:https://literatur-kunstkreis-uslar.de/index.php/programm/archiv/15-nald
 o-s-jazz-family
END:VEVENT
END:VCALENDAR
