BEGIN:VCALENDAR
VERSION:2.0
PRODID:-//Literatur- und Kunstkreis Uslar e. V.//NONSGML kigkonsult.se iCalcreator 2.41.92//
CALSCALE:GREGORIAN
METHOD:PUBLISH
UID:61356430-3564-4263-b563-323636316132
X-WR-CALNAME:iCagenda
X-WR-CALDESC:Event Management Extension for Joomla!
X-WR-RELCALID:3E26604A-50F4-4449-8B3E-E4F4932D05B5
X-WR-TIMEZONE:Europe/Berlin
BEGIN:VTIMEZONE
TZID:Europe/Berlin
TZUNTIL:20221030T010000Z
BEGIN:STANDARD
TZNAME:CET
DTSTART:20191027T030000
TZOFFSETFROM:+0200
TZOFFSETTO:+0100
RDATE:20201025T030000
RDATE:20211031T030000
END:STANDARD
BEGIN:DAYLIGHT
TZNAME:CEST
DTSTART:20200329T020000
TZOFFSETFROM:+0100
TZOFFSETTO:+0200
RDATE:20210328T020000
RDATE:20220327T020000
END:DAYLIGHT
END:VTIMEZONE
BEGIN:VEVENT
UID:62616665-3931-4139-b863-343231303830
DTSTAMP:20260422T150547Z
CATEGORIES:2020
CLASS:PUBLIC
DESCRIPTION;ALTREP="CID:<FFFF__=0ABBE548DFE235B58f9e8a93d@coffeebean.com>":
 Tauchen Sie mit „HairCut“ ein in die Kunst der Verwandlung. Die Künstler/i
 nnen Gina de l'Amore und Sally Gee nehmen Sie mit auf eine Reise in die Gl
 itzerwelt des Travestie-Cabarets. Live- Gesang\, Parodie\, Comedy\, maß- g
 eschneiderte Kostüme\, wahnsinnige Perücken\, Glitzer und Glamour... Enter
 tainment auf höchstem Niveau!
DTSTART:20201017T180000Z
DTEND:20201017T180000Z
GEO:+51.654579;+9.655107
LOCATION:Kulturbahnhof Uslar
ORGANIZER:
SEQUENCE:1
SUMMARY:Haircut: Travestie-Cabaret
TRANSP:OPAQUE
URL:https://literatur-kunstkreis-uslar.de/index.php/programm/archiv/151-hai
 rcut-travestie-cabaret
END:VEVENT
END:VCALENDAR
