BEGIN:VCALENDAR
VERSION:2.0
PRODID:-//Literatur- und Kunstkreis Uslar e. V.//NONSGML kigkonsult.se iCalcreator 2.41.92//
CALSCALE:GREGORIAN
METHOD:PUBLISH
UID:37393335-3636-4531-b436-393764363361
X-WR-CALNAME:iCagenda
X-WR-CALDESC:Event Management Extension for Joomla!
X-WR-RELCALID:3E26604A-50F4-4449-8B3E-E4F4932D05B5
X-WR-TIMEZONE:Europe/Berlin
BEGIN:VTIMEZONE
TZID:Europe/Berlin
TZUNTIL:20220327T010000Z
BEGIN:STANDARD
TZNAME:CET
DTSTART:20191027T030000
TZOFFSETFROM:+0200
TZOFFSETTO:+0100
RDATE:20201025T030000
RDATE:20211031T030000
END:STANDARD
BEGIN:DAYLIGHT
TZNAME:CEST
DTSTART:20200329T020000
TZOFFSETFROM:+0100
TZOFFSETTO:+0200
RDATE:20210328T020000
END:DAYLIGHT
END:VTIMEZONE
BEGIN:VEVENT
UID:61353539-3830-4761-a462-323062356431
DTSTAMP:20260422T145730Z
CATEGORIES:2020
CLASS:PUBLIC
DESCRIPTION;ALTREP="CID:<FFFF__=0ABBE548DFE235B58f9e8a93d@coffeebean.com>":
 5 .. .4 ... 3 ... 2 .. . 1 ... Los!\nMit dem traditionellen Einzählen für 
 improvisierte Szenen nach spontanen Vorgaben begrüßen die Göttinger Querqu
 assler das Uslarer Publikum demnächst im Forum!\nEndlich wieder Kultur! Au
 s diesem wunderbaren Anlass möchte der Literatur- und Kunstkreis dem Uslar
 er Publikum gern ein Geschenk machen: der Eintritt für die Veranstaltung i
 st frei!\nDamit das reibungslos funktioniert und möglichst viele Interessi
 erte einen der aufgrund der aktuellen Lage natürlich leider begrenzten Plä
 tze bekommen können\, bitten wir um verbindliche Anmeldung und Abholung vo
 n Reservierungskarten bei einer unserer beiden bekannten Vorverkaufsstelle
 n: dem Reisebüro 'urlaubsreif' sowie der Touristeninformation im Rathaus. 
 Die reservierten Plätze müssen bitte bis 18:45 Uhr eingenommen werden\, da
  sie sonst anderweitig vergeben werden können. Und auf dem Weg bis zum Pla
 tz bitte Mund-Nasenschutz nicht vergessen!\nUnd nun endlich: 5 ... 4 ... 3
  ... 2 ... 1 ...LOS!
DTSTART:20200815T170000Z
DTEND:20200815T170000Z
GEO:+51.667221;+9.63117
LOCATION:Forum Gymnasium Uslar
ORGANIZER:
SEQUENCE:1
SUMMARY:QuerQuassler Improvisationstheater - Endlich wieder Kultur!
TRANSP:OPAQUE
URL:https://literatur-kunstkreis-uslar.de/index.php/programm/archiv/153-que
 rquassler-improvisationstheater
END:VEVENT
END:VCALENDAR
