BEGIN:VCALENDAR
VERSION:2.0
PRODID:-//Literatur- und Kunstkreis Uslar e. V.//NONSGML kigkonsult.se iCalcreator 2.41.92//
CALSCALE:GREGORIAN
METHOD:PUBLISH
UID:33376634-3262-4836-a465-636631333263
X-WR-CALNAME:iCagenda
X-WR-CALDESC:Event Management Extension for Joomla!
X-WR-RELCALID:3E26604A-50F4-4449-8B3E-E4F4932D05B5
X-WR-TIMEZONE:Europe/Berlin
BEGIN:VTIMEZONE
TZID:Europe/Berlin
TZUNTIL:20221030T010000Z
BEGIN:STANDARD
TZNAME:CET
DTSTART:20191027T030000
TZOFFSETFROM:+0200
TZOFFSETTO:+0100
RDATE:20201025T030000
RDATE:20211031T030000
END:STANDARD
BEGIN:DAYLIGHT
TZNAME:CEST
DTSTART:20200329T020000
TZOFFSETFROM:+0100
TZOFFSETTO:+0200
RDATE:20210328T020000
RDATE:20220327T020000
END:DAYLIGHT
END:VTIMEZONE
BEGIN:VEVENT
UID:61373733-6339-4162-b431-616263623632
DTSTAMP:20260422T150817Z
CATEGORIES:2020
CLASS:PUBLIC
DESCRIPTION;ALTREP="CID:<FFFF__=0ABBE548DFE235B58f9e8a93d@coffeebean.com>":
 Der in Stuttgart geborene Gitarrist Ralf Illenberger begann seine Karriere
  in der spaeten 70iger Jahren mit seiner Zusammenarbeit mit Martin Kolbe. 
 Schon Ihre erste LP WAVES wurde fuer den Deutschen Schallplattenpreis nomi
 niert. Innerhalb von 10 Jahren konzertierten Kolbe/Illenberger in ueber 40
  Ländern und beeinflussten Gitarristen auf der ganzen Welt mit Ihrem eigen
 en Stil.\nNach der Trennung 1987gründet Illenberger die Band CIRCLE und ha
 t grosse Erfolge in den USA.\nHEART&amp\;BEAT ist Anfang der 90er Jahre 4 
 Wochen lang Nr.1 in den Radio Charts und Chicago Tribune bezeichnet Illenb
 erger als einer der Besten seines Genres. Durch seine Mitwirkung auf PASSI
 ON ON GUITAR erhält Illenberger eine Grammy Nominierung(1997).\nIn 2010 be
 ginnt die Zusammenarbeit mit dem Gitarristen Peter Autschbach. Die gemeins
 ame CD NO BOUNDERIES wird als weiterer gitarristischer Meilenstein betrach
 tet und Autschbach/Illenberger zieren das Cover des Akustik Gitarre Magazi
 ns im März 2013.\nDie solo CD von Illenberger RED ROCK JOURNEYS- aufgenomm
 en bei der renommierten Firma Stockfisch bekommt ueberschwengliche Kritike
 n auf der ganzen Welt.\nDie CD Zero Gravity mit Peter Autschbach wurde im 
 Herbst 2017 veröffentlicht.\nMit Acoustic Guitar Magic praesentiert Ralf I
 llenberger ein solo Programm in dem er den Zuhörer in die orchestrale Welt
  der akustischen Gitarre entführt. Wie kaum ein anderer setzt er auf Ausdr
 uck und Gefühl. Im Herbst 2020 wird seine neueste solo CD #Dance of the El
 ements# veröffentlicht werden. Ερωτικά Βίντεο https://www.tubev.sex/?hl=el
  .\n*Musik ist unsere grenzüberschreitende Sprache mit der auch kulturelle
  Verschiedenheiten vereint werden. Ich habe in meiner langen Karriere mit 
 verschiedensten Künstlern musiziert\, Trommler aus dem Senegal\, Tabla Vir
 tuosen aus Indien\, Tyco Trommler aus Japan\, Sänger aus Tibet\, Jazz Virt
 uosen aus aller Welt. Musik ist fuer mich die Sprache des Herzens!*
DTSTART:20200926T180000Z
DTEND:20200926T180000Z
GEO:+51.658421;+9.633213
LOCATION:St. Johanniskirche Uslar
ORGANIZER:
SEQUENCE:1
SUMMARY:Nacht der Skulptur - Ralf Illenberger: Gitarrenmusik der Extraklass
 e
TRANSP:OPAQUE
URL:https://literatur-kunstkreis-uslar.de/index.php/programm/archiv/154-ral
 f-illenberger-gitarrenmusik-der-extraklasse
END:VEVENT
END:VCALENDAR
