BEGIN:VCALENDAR
VERSION:2.0
PRODID:-//Literatur- und Kunstkreis Uslar e. V.//NONSGML kigkonsult.se iCalcreator 2.41.92//
CALSCALE:GREGORIAN
METHOD:PUBLISH
UID:64613138-6264-4231-a135-633137346332
X-WR-CALNAME:iCagenda
X-WR-CALDESC:Event Management Extension for Joomla!
X-WR-RELCALID:3E26604A-50F4-4449-8B3E-E4F4932D05B5
X-WR-TIMEZONE:Europe/Berlin
BEGIN:VTIMEZONE
TZID:Europe/Berlin
TZUNTIL:20221030T010000Z
BEGIN:STANDARD
TZNAME:CET
DTSTART:20201025T030000
TZOFFSETFROM:+0200
TZOFFSETTO:+0100
RDATE:20211031T030000
END:STANDARD
BEGIN:DAYLIGHT
TZNAME:CEST
DTSTART:20210328T020000
TZOFFSETFROM:+0100
TZOFFSETTO:+0200
RDATE:20220327T020000
END:DAYLIGHT
END:VTIMEZONE
BEGIN:VEVENT
UID:62386466-3633-4963-b238-363766613139
DTSTAMP:20260422T150546Z
CATEGORIES:2021
CLASS:PUBLIC
DESCRIPTION;ALTREP="CID:<FFFF__=0ABBE548DFE235B58f9e8a93d@coffeebean.com>":
 Nun ist es soweit. Der Literatur- und Kunstkreis Uslar präsentiert seine e
 rste Veranstaltung online. Aufregender Jazz mit der Insomnia Brass Band au
 s Berlin und die besten Bücher des Frühjahrs werden präsentiert von dem Bu
 chhändler Heinrich Sprink aus Dassel.\nDie  Insomnia Brass Band ist in Usl
 ar bereits bekannt. 2019 trat sie gemeinsam mit Gabi Hörold in der Literat
 urtankstelle Kapelle Sohlingen auf und begeisterte das Publikum mit außerg
 ewöhnlichem und mitreißendem Jazz. Es spielen Almut Schlichting (Batritons
 axofon)\, Anke Lucks (Posaune) und Christian Marien (Schlagzeug).\nHeinric
 h Sprink ist seit über 30 Jahren Buchhändler in Dassel und vielen bekannt 
 für seine profilierte Literaturkennerschaft. Er erhebt mit seinen Texten d
 ie Buchvorstellung zur eigenen Textgattung. Sprink formuliert pointiert\, 
 witzig und inhaltlich fundiert. Ihm zuzuhören ist ein Genuss und weckt die
  Lust aufs Lesen.
DTSTART:20210420T220000Z
DTEND:20210420T220000Z
GEO:00;0
LOCATION:
ORGANIZER:
SEQUENCE:1
SUMMARY:Insomnia Brass Band und Heinrich Sprink
TRANSP:OPAQUE
URL:https://literatur-kunstkreis-uslar.de/index.php/programm/archiv/155-ins
 omnia-brass-band-und-heinrich-sprink
END:VEVENT
END:VCALENDAR
