BEGIN:VCALENDAR
VERSION:2.0
PRODID:-//Literatur- und Kunstkreis Uslar e. V.//NONSGML kigkonsult.se iCalcreator 2.41.92//
CALSCALE:GREGORIAN
METHOD:PUBLISH
UID:61326433-3830-4362-a434-613833646531
X-WR-CALNAME:iCagenda
X-WR-CALDESC:Event Management Extension for Joomla!
X-WR-RELCALID:3E26604A-50F4-4449-8B3E-E4F4932D05B5
X-WR-TIMEZONE:Europe/Berlin
BEGIN:VTIMEZONE
TZID:Europe/Berlin
TZUNTIL:20230326T010000Z
BEGIN:STANDARD
TZNAME:CET
DTSTART:20201025T030000
TZOFFSETFROM:+0200
TZOFFSETTO:+0100
RDATE:20211031T030000
RDATE:20221030T030000
END:STANDARD
BEGIN:DAYLIGHT
TZNAME:CEST
DTSTART:20210328T020000
TZOFFSETFROM:+0100
TZOFFSETTO:+0200
RDATE:20220327T020000
END:DAYLIGHT
END:VTIMEZONE
BEGIN:VEVENT
UID:39353136-3530-4062-b363-303232303864
DTSTAMP:20260422T150234Z
CATEGORIES:2021
CLASS:PUBLIC
DESCRIPTION;ALTREP="CID:<FFFF__=0ABBE548DFE235B58f9e8a93d@coffeebean.com>":
 MAUVE [mo:v] ist die Chanson-Liaison der Sängerin Maja Hilke und dem Piani
 sten Malte Hollmann. In nostalgischen\, französischsprachigen Liedern form
 en die Musiker satirische und poetische Texte zu großartigen Melodien. Und
  das mit einer derartigen Feinsinnigkeit und Intensität\, dass die in Musi
 k gegossenen Geschichten\, Emotionen und Revolten fast zu denen des Zuhöre
 rs werden wollen.\nDas Duo interpretiert klassische Bohême- Chansons der 5
 0-70er Jahre von Jacques Brel\, Serge Gainsbourg und Georges Brassens. An 
 die Seite dieser Stücke stellt MAUVE chansonhafte eigene Popsongs\, in den
 en die Musiker auch zu singenden Gläsern\, Akkordeon und Percussioninstrum
 enten greifen. Die eigenen Vertonungen des Ensembles legen deren musikalis
 che Wurzeln frei\, die im Jazz\, der klassischen und der Zeitgenössischen 
 Musik liegen.\nMAUVE formierte sich im Dunstkreis der hannoveraner Musikho
 chschule und spielte zunächst in wechselnden Besetzungen. Seit Frühjahr 20
 14 arbeiten Hilke und Hollmann nun fest zusammen und spielen Chansons von 
 Nostalgie und Revolten. Encore\, Encore!
DTSTART:20210821T180000Z
DTEND:20210821T180000Z
GEO:+51.667473;+9.631277
LOCATION:Forum Gymnasium Uslar
ORGANIZER:
SEQUENCE:1
SUMMARY:Mauve Chanson
TRANSP:OPAQUE
URL:https://literatur-kunstkreis-uslar.de/index.php/programm/archiv/156-mau
 ve-chanson
END:VEVENT
END:VCALENDAR
